
BEGIN:VCALENDAR
VERSION:2.0
PRODID:-// - ECPv6.15.20//NONSGML v1.0//EN
CALSCALE:GREGORIAN
METHOD:PUBLISH
X-ORIGINAL-URL:https://grond.community
X-WR-CALDESC:Events for 
REFRESH-INTERVAL;VALUE=DURATION:PT1H
X-Robots-Tag:noindex
X-PUBLISHED-TTL:PT1H
BEGIN:VTIMEZONE
TZID:Europe/Amsterdam
BEGIN:DAYLIGHT
TZOFFSETFROM:+0100
TZOFFSETTO:+0200
TZNAME:CEST
DTSTART:20250330T010000
END:DAYLIGHT
BEGIN:STANDARD
TZOFFSETFROM:+0200
TZOFFSETTO:+0100
TZNAME:CET
DTSTART:20251026T010000
END:STANDARD
BEGIN:DAYLIGHT
TZOFFSETFROM:+0100
TZOFFSETTO:+0200
TZNAME:CEST
DTSTART:20260329T010000
END:DAYLIGHT
BEGIN:STANDARD
TZOFFSETFROM:+0200
TZOFFSETTO:+0100
TZNAME:CET
DTSTART:20261025T010000
END:STANDARD
BEGIN:DAYLIGHT
TZOFFSETFROM:+0100
TZOFFSETTO:+0200
TZNAME:CEST
DTSTART:20270328T010000
END:DAYLIGHT
BEGIN:STANDARD
TZOFFSETFROM:+0200
TZOFFSETTO:+0100
TZNAME:CET
DTSTART:20271031T010000
END:STANDARD
END:VTIMEZONE
BEGIN:VEVENT
DTSTART;TZID=Europe/Amsterdam:20260104T150000
DTEND;TZID=Europe/Amsterdam:20260104T190000
DTSTAMP:20260420T211023
CREATED:20260104T045731Z
LAST-MODIFIED:20260104T045831Z
UID:2780-1767538800-1767553200@grond.community
SUMMARY:Sunday Sessions
DESCRIPTION:Come to GROND\, hang out with us and wrap up your weekend with a family and hangover friendly session including live music\, DJs\, performance\, storytelling and anything else we can think of to ease you into next week. \nEvery edition of the Sunday Sessions we open the bar\, mellow sounds will permeate the space and each time we will have a varying program. \nCheck website \nYou can just chill or read your favourite poem for us; drawing\, painting and crafts table available; mini-pancakes too! open from 3pm. \nHope to see you there! \nGROND \nBijdorpstraat 1 \n1096AP \nAmsterdam
URL:https://grond.community/event/sunday-sessions-copy-2/
CATEGORIES:Movies,Music,performance,Solidarity
ATTACH;FMTTYPE=image/png:https://grond.community/wp-content/uploads/2025/11/SS-general-image-2.png
END:VEVENT
BEGIN:VEVENT
DTSTART;TZID=Europe/Amsterdam:20260110T203000
DTEND;TZID=Europe/Amsterdam:20260110T230000
DTSTAMP:20260420T211023
CREATED:20251212T160950Z
LAST-MODIFIED:20251213T095853Z
UID:2732-1768077000-1768086000@grond.community
SUMMARY:New Marshall Plan
DESCRIPTION:The world is full of noise. On Saturday 10 January\, New Marshall Plan turns the knob toward hope.\nWith 80s synths\, 90s guitars\, and lyrics about politics\, love\, and life\, the band brews catchy indie pop that heals\, lifts\, and sticks in your head: musical vitamins for those who want to feel again. \n20:30 (doors: 20:00)\nTickets online: regular €10 / discount €7 – at the door: €12\,5 (sliding scale) \n\nAbout\nNew Marshall Plan is a Dutch indie band creating music rooted in the rich traditions of synthpop\, rock\, and new wave. They were formed more than 20 years ago out of a shared love for bands like Depeche Mode\, Joy Division\, Radiohead\, Interpol\, and The Whitest Boy Alive—but for a long time\, the songs stayed close to home. In June 2023 they recorded the album “Escalate” at Mailmen Studio with Martijn Groeneveld\, known for his work with Blaudzun and Klangstof. The first single dropped in October 2023\, and the full album was released on April 4\, 2024. Each of the 10 tracks is accompanied by a music video—many of them made using AI\, pushing the boundaries of what indie can look like as well as sound like. Lyrically\, they don’t shy away from anything. These songs cover themes like corporate greed\, war\, inequality\, misinformation\, and the messy reality of human relationships. But there’s also hope in the noise—because for them\, making music is an act of rebuilding. The band’s name\, New Marshall Plan\, reflects that—a nod to Europe’s post-war reconstruction and a metaphor for picking up the pieces in your own life. In 2025\, they also released “Bermuda\,” a self-recorded album from 2007 that they never properly put out back then. It’s a raw snapshot of who they were\, and releasing it now bridges their early ideas with what they are creating today. It’s not as polished as “Escalate”—but it’s real\, and it completes their story until now. \nNew Marshall Plan are Rogier Werschkull\, Roeland van der Put\, David van Putten\, and Bart Koopman.
URL:https://grond.community/event/new-marshall-plan/
LOCATION:GROND\, Bijdorpstraat 1\, Amsterdam\, 1096AP\, Netherlands
CATEGORIES:Music
ATTACH;FMTTYPE=image/jpeg:https://grond.community/wp-content/uploads/2025/12/Bew-Marshall-Plan.jpeg
ORGANIZER;CN="GROND":MAILTO:info (at) grond (dot) community
END:VEVENT
BEGIN:VEVENT
DTSTART;TZID=Europe/Amsterdam:20260111T150000
DTEND;TZID=Europe/Amsterdam:20260111T190000
DTSTAMP:20260420T211023
CREATED:20260109T162318Z
LAST-MODIFIED:20260111T125540Z
UID:2782-1768143600-1768158000@grond.community
SUMMARY:Sunday Sessions JAM
DESCRIPTION:Sunday Sessions is cancelled this week due to extremely slippery roads and paths in the area.\nTake care everyone\, and we’ll see you next week. \n  \nCome to GROND\, hang out with us and wrap up your weekend with a family and hangover friendly session including live music\, DJs\, performance\, storytelling and anything else we can think of to ease you into next week. \nEvery edition of the Sunday Sessions we open the bar\, mellow sounds will permeate the space and each time we will have a varying program. \nTODAY WE WILL HAVE A JAMSESSION WITH MARC\, DAVID AND MAZEN \nCheck website \nYou can just chill or read your favourite poem for us; drawing\, painting and crafts table available; mini-pancakes too! open from 3pm. \nHope to see you there! \nGROND \nBijdorpstraat 1 \n1096AP \nAmsterdam
URL:https://grond.community/event/sunday-sessions-copy-3/
CATEGORIES:Movies,Music,performance,Solidarity
ATTACH;FMTTYPE=image/png:https://grond.community/wp-content/uploads/2026/01/SS-general-image-2-.png
END:VEVENT
BEGIN:VEVENT
DTSTART;TZID=Europe/Amsterdam:20260114T190000
DTEND;TZID=Europe/Amsterdam:20260114T230000
DTSTAMP:20260420T211023
CREATED:20260109T162742Z
LAST-MODIFIED:20260114T123634Z
UID:2783-1768417200-1768431600@grond.community
SUMMARY:Sport & Spel Club Balreep
DESCRIPTION:SSC Balreep is a weekly volkskeuken\, sports and game night at GROND. \nTONIGHT:\n🌶️ Vega VoKu: delicious vegan menu by Jessica & Judith  (reservations appreciated) \n⚽️/📺 AFCON 2025: Nigeria – Morocco (21h)\n🟤 Sjoelbak NY Championshipcuptrophy \n🎲 Broken Dutch Boardgames\n🏓 HoodCup: Season III \n🚨 Barkeep/helping hands wanted! \n  \nSSC Balreep refers to the local sporting club that was founded in 2013 out of Amsterdam squatting communities Op de Valreep and Bajesdorp. Fusing the best of evergreen canteen life\, the universal benefits of sports and community building from all times for all generations! \nBring your own game\, join the running competitions or just pass by for a drink\, bite and chat … while enjoying major and minor events on big(ger) screens. \nThe GROND VoKu will offer good meals at fair prices varying from canteen food art by selected chefs to BYOP (Bring Your Own Pizza or … ). \nTo make a reservation for dinner\, share your ideas or offer your help\, please send a message to kantine@grond.community or contact us via the SSC Balreep signal-group.
URL:https://grond.community/event/sport-spel-club-balreep-copy-7/
CATEGORIES:Food,Games,Meetup,Movies,Screening,Sports,SSCB
ATTACH;FMTTYPE=image/jpeg:https://grond.community/wp-content/uploads/2026/01/signal-2026-01-09-174353.jpeg
ORGANIZER;CN="SSC Balreep":MAILTO:info@newemergences.com
END:VEVENT
BEGIN:VEVENT
DTSTART;TZID=Europe/Amsterdam:20260116T200000
DTEND;TZID=Europe/Amsterdam:20260116T230000
DTSTAMP:20260420T211023
CREATED:20251217T155522Z
LAST-MODIFIED:20251217T155625Z
UID:2752-1768593600-1768604400@grond.community
SUMMARY:Orb Weaver
DESCRIPTION:Orb Weaver is a trio playing long form improvisation.  With David Mitchell (guitar\, electronics)\, Robbert van Hulzen (drums)\, Lorenzo Servali (bass) and Marc Nukoop (projections).  The trio spins out long tonal improvisations in the tradition of the Necks\, Jeff Parker ETA and David Torn\, and this month is accompanied by special guest Vinkepeezer (Ivo Bol) on electronic instruments.  Tickets 10euros/7euros concessions.
URL:https://grond.community/event/orb-weaver-2/
LOCATION:GROND\, Bijdorpstraat 1\, Amsterdam\, 1096AP\, Netherlands
ATTACH;FMTTYPE=image/png:https://grond.community/wp-content/uploads/2025/12/Orb-Weaver-1.png
ORGANIZER;CN="GROND":MAILTO:info (at) grond (dot) community
END:VEVENT
BEGIN:VEVENT
DTSTART;TZID=Europe/Amsterdam:20260117T140000
DTEND;TZID=Europe/Amsterdam:20260117T180000
DTSTAMP:20260420T211023
CREATED:20260112T130000Z
LAST-MODIFIED:20260114T130408Z
UID:2805-1768658400-1768672800@grond.community
SUMMARY:GROND Garage Sale + New Year Drinks
DESCRIPTION:On Saturday 17 January\, from 14:00 – 18:00\, GROND organises its first yearly Garage Sale slash ‘Kofferbakverkoop’ in combination with New Years Drinks. Some items are free\, some items will be sold based on donation\, some of them have a fixed price. \nBring your friends\, Celebrate the New Year & Donate to GROND by buying our stuff! \nALSO TODAY; SUNDAY SESSIONS ON SATURDAY\, WITH A JAM IN OUR BLACK BOX MORE INFO
URL:https://grond.community/event/garage-sale/
LOCATION:GROND\, Bijdorpstraat 1\, Amsterdam\, 1096AP\, Netherlands
CATEGORIES:Food,Meetup
ATTACH;FMTTYPE=image/jpeg:https://grond.community/wp-content/uploads/2026/01/Kofferbakverkoop.jpg
ORGANIZER;CN="GROND":MAILTO:info (at) grond (dot) community
END:VEVENT
BEGIN:VEVENT
DTSTART;TZID=Europe/Amsterdam:20260117T150000
DTEND;TZID=Europe/Amsterdam:20260117T190000
DTSTAMP:20260420T211023
CREATED:20260109T171246Z
LAST-MODIFIED:20260114T130216Z
UID:2795-1768662000-1768676400@grond.community
SUMMARY:Sunday Sessions on SATURDAY 17th
DESCRIPTION:Because Sunday the 18th GROND is fully booked for a rental\, this weekend’s Session is on SATURDAY 17TH of January. \nALSO: GARAGE SALE@GROND! MORE INFO \nTODAY: JAM WITH US IN OUR BLACK BOX \nCome to GROND\, hang out with us and wrap up your weekend with a family and hangover friendly session including live music\, DJs\, performance\, storytelling and anything else we can think of to ease you into next week. \nEvery edition of the Sunday Sessions we open the bar\, mellow sounds will permeate the space and each time we will have a varying program. \nCheck website \nYou can just chill or read your favourite poem for us; drawing\, painting and crafts table available; mini-pancakes too! open from 3pm. \nHope to see you there! \nGROND \nBijdorpstraat 1 \n1096AP \nAmsterdam
URL:https://grond.community/event/sunday-sessions-copy-4/
CATEGORIES:Movies,Music,performance,Solidarity
ATTACH;FMTTYPE=image/png:https://grond.community/wp-content/uploads/2025/11/SS-general-image-2.png
END:VEVENT
BEGIN:VEVENT
DTSTART;TZID=Europe/Amsterdam:20260121T190000
DTEND;TZID=Europe/Amsterdam:20260121T230000
DTSTAMP:20260420T211023
CREATED:20260109T163230Z
LAST-MODIFIED:20260118T145508Z
UID:2787-1769022000-1769036400@grond.community
SUMMARY:Sport & Spel Club Balreep ⭐️ Pubquiz
DESCRIPTION:SSC Balreep is a weekly volkskeuken\, sports and game night at GROND. \nTONIGHT:\n🌶️ Vega VoKu: delicious vegetarian menu by Jessica & Kasper  (reservations appreciated) \n⁉️ Erik’s Extraordinary Pubquiz (21h)\n⚽️/📺 UEFA CL: Newcastle – PSV (21h)\n🏐/📺 EHF EURO: Netherlands – Georgia (19h)\n🎲 Broken Dutch Boardgames\n🏓 HoodCup: Season III\n🟤 Sjoelbak Highscore Hunting\n \n  \n🚨 Barkeep/helping hands wanted! \n  \nSSC Balreep refers to the local sporting club that was founded in 2013 out of Amsterdam squatting communities Op de Valreep and Bajesdorp. Fusing the best of evergreen canteen life\, the universal benefits of sports and community building from all times for all generations! \nBring your own game\, join the running competitions or just pass by for a drink\, bite and chat … while enjoying major and minor events on big(ger) screens. \nThe GROND VoKu will offer good meals at fair prices varying from canteen food art by selected chefs to BYOP (Bring Your Own Pizza or … ). \nTo make a reservation for dinner\, share your ideas or offer your help\, please send a message to kantine@grond.community or contact us via the SSC Balreep signal-group.
URL:https://grond.community/event/sport-spel-club-balreep-copy-8/
CATEGORIES:Food,Games,Meetup,Movies,Screening,Sports,SSCB
ATTACH;FMTTYPE=image/jpeg:https://grond.community/wp-content/uploads/2026/01/signal-2026-01-18-150704.jpeg
ORGANIZER;CN="SSC Balreep":MAILTO:info@newemergences.com
END:VEVENT
BEGIN:VEVENT
DTSTART;TZID=Europe/Amsterdam:20260125T150000
DTEND;TZID=Europe/Amsterdam:20260125T190000
DTSTAMP:20260420T211023
CREATED:20260122T120651Z
LAST-MODIFIED:20260122T125959Z
UID:2823-1769353200-1769367600@grond.community
SUMMARY:Sunday Sessions 25 Januari
DESCRIPTION:  \nCome to GROND\, hang out with us and wrap up your weekend with a family and hangover friendly session including live music\, DJs\, performance\, storytelling and anything else we can think of to ease you into next week. \nEvery edition of the Sunday Sessions we open the bar\, mellow sounds will permeate the space and each time we will have a varying program \nYou can just chill or read your favourite poem for us; drawing\, painting and crafts table available; mini-pancakes too! open from 3pm. \nHope to see you there! \nGROND \nBijdorpstraat 1 \n1096AP \nAmsterdam
URL:https://grond.community/event/sunday-sessions-25-jan/
CATEGORIES:Movies,Music,performance,Solidarity
ATTACH;FMTTYPE=image/jpeg:https://grond.community/wp-content/uploads/2026/01/Sunday-Sessions-25-jan-b.jpg
END:VEVENT
BEGIN:VEVENT
DTSTART;TZID=Europe/Amsterdam:20260128T170000
DTEND;TZID=Europe/Amsterdam:20260128T230000
DTSTAMP:20260420T211023
CREATED:20260109T163235Z
LAST-MODIFIED:20260126T165943Z
UID:2788-1769619600-1769641200@grond.community
SUMMARY:Sport & Spel Club Balreep ⭐️ OEC Jungle Speed '26
DESCRIPTION:SSC Balreep is a weekly volkskeuken\, sports and game night at GROND. \nTONIGHT:\n💈 Open European Championships Jungle Speed 2026 (20h30 – qualifying) \n🌶️ Vega VoKu: delicious vega(n) menu by Club De Club Chefteam  (reservations appreciated)\n🏐/📺 EHF EURO: Germany – France (19h)\n⚽️/📺 UEFA CL: PSV – Bayern / BVB – Inter / Ajax – Olympiakos (21h)\n🎲 Broken Dutch Boardgames\n🏓 HoodCup: Season III\n🟤 Sjoelbak Highscore Hunting\n \n  \n🚨 Barkeep/helping hands wanted! \n  \nSSC Balreep refers to the local sporting club that was founded in 2013 out of Amsterdam squatting communities Op de Valreep and Bajesdorp. Fusing the best of evergreen canteen life\, the universal benefits of sports and community building from all times for all generations! \nBring your own game\, join the running competitions or just pass by for a drink\, bite and chat … while enjoying major and minor events on big(ger) screens. \nThe GROND VoKu will offer good meals at fair prices varying from canteen food art by selected chefs to BYOP (Bring Your Own Pizza or … ). \nTo make a reservation for dinner\, share your ideas or offer your help\, please send a message to kantine@grond.community or contact us via the SSC Balreep signal-group.
URL:https://grond.community/event/sport-spel-club-balreep-copy-copy-3/
CATEGORIES:Food,Games,Meetup,Movies,Screening,Sports,SSCB
ATTACH;FMTTYPE=image/jpeg:https://grond.community/wp-content/uploads/2026/01/signal-2026-01-26-115159.jpeg
ORGANIZER;CN="SSC Balreep":MAILTO:info@newemergences.com
END:VEVENT
END:VCALENDAR