
BEGIN:VCALENDAR
VERSION:2.0
PRODID:-// - ECPv6.15.20//NONSGML v1.0//EN
CALSCALE:GREGORIAN
METHOD:PUBLISH
X-ORIGINAL-URL:https://grond.community
X-WR-CALDESC:Events for 
REFRESH-INTERVAL;VALUE=DURATION:PT1H
X-Robots-Tag:noindex
X-PUBLISHED-TTL:PT1H
BEGIN:VTIMEZONE
TZID:Europe/London
BEGIN:DAYLIGHT
TZOFFSETFROM:+0000
TZOFFSETTO:+0100
TZNAME:BST
DTSTART:20240331T010000
END:DAYLIGHT
BEGIN:STANDARD
TZOFFSETFROM:+0100
TZOFFSETTO:+0000
TZNAME:GMT
DTSTART:20241027T010000
END:STANDARD
BEGIN:DAYLIGHT
TZOFFSETFROM:+0000
TZOFFSETTO:+0100
TZNAME:BST
DTSTART:20250330T010000
END:DAYLIGHT
BEGIN:STANDARD
TZOFFSETFROM:+0100
TZOFFSETTO:+0000
TZNAME:GMT
DTSTART:20251026T010000
END:STANDARD
BEGIN:DAYLIGHT
TZOFFSETFROM:+0000
TZOFFSETTO:+0100
TZNAME:BST
DTSTART:20260329T010000
END:DAYLIGHT
BEGIN:STANDARD
TZOFFSETFROM:+0100
TZOFFSETTO:+0000
TZNAME:GMT
DTSTART:20261025T010000
END:STANDARD
END:VTIMEZONE
BEGIN:VTIMEZONE
TZID:Europe/Amsterdam
BEGIN:DAYLIGHT
TZOFFSETFROM:+0100
TZOFFSETTO:+0200
TZNAME:CEST
DTSTART:20240331T010000
END:DAYLIGHT
BEGIN:STANDARD
TZOFFSETFROM:+0200
TZOFFSETTO:+0100
TZNAME:CET
DTSTART:20241027T010000
END:STANDARD
BEGIN:DAYLIGHT
TZOFFSETFROM:+0100
TZOFFSETTO:+0200
TZNAME:CEST
DTSTART:20250330T010000
END:DAYLIGHT
BEGIN:STANDARD
TZOFFSETFROM:+0200
TZOFFSETTO:+0100
TZNAME:CET
DTSTART:20251026T010000
END:STANDARD
BEGIN:DAYLIGHT
TZOFFSETFROM:+0100
TZOFFSETTO:+0200
TZNAME:CEST
DTSTART:20260329T010000
END:DAYLIGHT
BEGIN:STANDARD
TZOFFSETFROM:+0200
TZOFFSETTO:+0100
TZNAME:CET
DTSTART:20261025T010000
END:STANDARD
END:VTIMEZONE
BEGIN:VEVENT
DTSTART;TZID=Europe/London:20250902T190000
DTEND;TZID=Europe/London:20250902T210000
DTSTAMP:20260421T042408
CREATED:20250730T180437Z
LAST-MODIFIED:20250730T180437Z
UID:2128-1756839600-1756846800@grond.community
SUMMARY:Study Circle - Antiracism
DESCRIPTION:We’re excited to announce a new study space initiative from Feministas en Holanda! a ritual\, collective and horizontal space\, a series of regular gatherings to share knowledge rooted in decolonial feminism and the many struggles that shape our activism and affects. \nDates and registration >>> \nTuesdays / 19:00–21:00 \nAugust 5\, 19\, September 2\, 16\, 30\, October 7. \n•⁠ ⁠Aug 5 – Decolonial Feminism(s)\n•⁠ ⁠Aug 19 – Antimilitarism\n•⁠ ⁠Sept 2 – Antiracism\n•⁠ ⁠Sept 16 – Anticapitalism\n•⁠ ⁠Sept 30 – Palestine\n•⁠ ⁠Oct 7 – Revolution and Activism \nIf you’re interested to join\, send an email to feministasenholanda@gmail.com and we’ll share more information about how to participate and co-create this space with us. \n🔥 Together\, we nurture a space for collective reflection\, radical imagination\, and embodied resistance and liberation.
URL:https://grond.community/event/study-circle-antiracism/
ATTACH;FMTTYPE=image/jpeg:https://grond.community/wp-content/uploads/2025/07/feministas-study-circle-grondweb.jpg
END:VEVENT
BEGIN:VEVENT
DTSTART;TZID=Europe/London:20250910T190000
DTEND;TZID=Europe/London:20250910T230000
DTSTAMP:20260421T042408
CREATED:20250904T102328Z
LAST-MODIFIED:20250910T102617Z
UID:2166-1757530800-1757545200@grond.community
SUMMARY:Sport & Spel Club Balreep / 🏓🟤🚴🪩🏀🎲🌶️
DESCRIPTION:After a semi summer break SSC Balreep is back with it’s weekly VoKu\, sports and game night at GROND. \nTONIGHT:\n🟤 Summer Sjoelsalon Masters (Sjoelen=Shuffleboarding)\n🏓 HoodCup: Season II\n🚴 Pot Belge Int. Koerscafé: La Vuelta – managertalks  (join our open manager league on Scorito)\n🪩 Petanque: Boules around the Block (BYOB)\n🎲 Broken Dutch Boardgames\n🏀 /🎦 EURO: GER – SLO (21h) \n🌶️ Vega VoKu (reservations appreciated)\n \n  \n🚨 Cook/barkeep/helping hands wanted! \nSSC Balreep refers to the local sporting club that was founded in 2013 out of Amsterdam squatting communities Op de Valreep and Bajesdorp. Pairing the best of evergreen canteen life\, the universal benefits of sports and community building from all times for all generations! \nBring your own game\, join the running competitions or just pass by for a drink\, bite and chat … while enjoying major and minor events on big(ger) screens. \nThe GROND VoKu will offer good meals at fair prices\, varying from canteen food art by selected chefs to BYOP (Bring Your Own Pizza or … ). \nTo make a reservation for dinner\, share your ideas or offer your help\, please send a message to kantine@grond.community or contact us via the SSC Balreep signal-group.
URL:https://grond.community/event/sport-spel-club-balreep-23/
CATEGORIES:Food,Games,Meetup,Screening,Sports,SSCB
ATTACH;FMTTYPE=image/jpeg:https://grond.community/wp-content/uploads/2025/09/SSCB-250910.jpg
ORGANIZER;CN="SSC Balreep":MAILTO:info@newemergences.com
END:VEVENT
BEGIN:VEVENT
DTSTART;TZID=Europe/London:20250916T190000
DTEND;TZID=Europe/London:20250916T210000
DTSTAMP:20260421T042408
CREATED:20250730T180610Z
LAST-MODIFIED:20250730T180630Z
UID:2130-1758049200-1758056400@grond.community
SUMMARY:Study Circle - Anticapitalism
DESCRIPTION:We’re excited to announce a new study space initiative from Feministas en Holanda! a ritual\, collective and horizontal space\, a series of regular gatherings to share knowledge rooted in decolonial feminism and the many struggles that shape our activism and affects. \nDates and registration >>> \nTuesdays / 19:00–21:00 \nAugust 5\, 19\, September 2\, 16\, 30\, October 7. \n•⁠ ⁠Aug 5 – Decolonial Feminism(s)\n•⁠ ⁠Aug 19 – Antimilitarism\n•⁠ ⁠Sept 2 – Antiracism\n•⁠ ⁠Sept 16 – Anticapitalism\n•⁠ ⁠Sept 30 – Palestine\n•⁠ ⁠Oct 7 – Revolution and Activism \nIf you’re interested to join\, send an email to feministasenholanda@gmail.com and we’ll share more information about how to participate and co-create this space with us. \n🔥 Together\, we nurture a space for collective reflection\, radical imagination\, and embodied resistance and liberation.
URL:https://grond.community/event/study-circle-anticapitalism/
ATTACH;FMTTYPE=image/jpeg:https://grond.community/wp-content/uploads/2025/07/feministas-study-circle-grondweb.jpg
END:VEVENT
BEGIN:VEVENT
DTSTART;TZID=Europe/London:20250917T190000
DTEND;TZID=Europe/London:20250917T230000
DTSTAMP:20260421T042408
CREATED:20250904T102421Z
LAST-MODIFIED:20250916T101611Z
UID:2168-1758135600-1758150000@grond.community
SUMMARY:Sport & Spel Club Balreep / 🏓⚽🟤🎲🌶️
DESCRIPTION:SSC Balreep is a weekly VoKu\, sports and game night at GROND. \nTONIGHT:\n🏓 HoodCup: Season II\n⚽ /🎦 UEFA CL: Ajax – Inter / Bayern – Chelsea (21h)\n🟤 Sjoelsalon Highscore Sessions\n🎲 Broken Dutch Boardgames\n🌶️ Vega VoKu (reservations appreciated) \n  \n🚨 Cook/barkeep/helping hands wanted! \nSSC Balreep refers to the local sporting club that was founded in 2013 out of Amsterdam squatting communities Op de Valreep and Bajesdorp. Fusing the best of evergreen canteen life\, the universal benefits of sports and community building from all times for all generations! \nBring your own game\, join the running competitions or just pass by for a drink\, bite and chat … while enjoying major and minor events on big(ger) screens. \nThe GROND VoKu will offer good meals at fair prices varying from canteen food art by selected chefs to BYOP (Bring Your Own Pizza or … ). \nTo make a reservation for dinner\, share your ideas or offer your help\, please send a message to kantine@grond.community or contact us via the SSC Balreep signal-group.
URL:https://grond.community/event/sport-spel-club-balreep-copy/
CATEGORIES:Food,Games,Meetup,Screening,Sports,SSCB
ORGANIZER;CN="SSC Balreep":MAILTO:info@newemergences.com
END:VEVENT
BEGIN:VEVENT
DTSTART;TZID=Europe/London:20250920T170000
DTEND;TZID=Europe/London:20250920T230000
DTSTAMP:20260421T042408
CREATED:20250915T194511Z
LAST-MODIFIED:20250916T104031Z
UID:2258-1758387600-1758409200@grond.community
SUMMARY:Club De Clubavond No.1
DESCRIPTION:Er is een clubje opgericht\, CLUB DE CLUB is de naam\, aangenaam. \nZaterdag 20 september is de allereerste Club de Clubavond vanaf 17:00. \nWat kan je verwachten? We gaan sjoelen\, ping-pongen\, eten\, drinken\, de Balreep-reep proeven\, een film kiezen en daar doorheen praten\, nog meer lekkers eten\, radio maken en dansen op de heerlijke muziek van Thiago. \nAlle zotte ideeën\, input\, dromen en wensen zijn van harte welkom! \n#Sjoelbak #PingPong #Eten&Drinken #Balreep-reep #Flats #Dakradio #Flats #Wunschfilm #SmakenVanMijnHerinnering \n 
URL:https://grond.community/event/club-de-clubavond-no-1/
CATEGORIES:Food,Games,Meetup,Movies,Music,performance,Screening,Sports,SSCB,Tryout
ATTACH;FMTTYPE=image/jpeg:https://grond.community/wp-content/uploads/2025/09/signal-2025-09-10-170244.jpeg
END:VEVENT
BEGIN:VEVENT
DTSTART;TZID=Europe/London:20250924T190000
DTEND;TZID=Europe/London:20250924T230000
DTSTAMP:20260421T042408
CREATED:20250904T102909Z
LAST-MODIFIED:20250911T160810Z
UID:2172-1758740400-1758754800@grond.community
SUMMARY:Sport & Spel Club Balreep /
DESCRIPTION:SSC Balreep is a weekly VoKu\, sports and game night at GROND. \nTONIGHT:\n🏓 HoodCup: Season II\n🪩 Petanque: Boules around the Block (BYOB)\n🎲 Broken Dutch Boardgames\n🌶️ Vega VoKu (reservations appreciated) \n  \n🚨 Cook/barkeep/helping hands wanted! \nSSC Balreep refers to the local sporting club that was founded in 2013 out of Amsterdam squatting communities Op de Valreep and Bajesdorp. Fusing the best of evergreen canteen life\, the universal benefits of sports and community building from all times for all generations! \nBring your own game\, join the running competitions or just pass by for a drink\, bite and chat … while enjoying major and minor events on big(ger) screens. \nThe GROND VoKu will offer good meals at fair prices varying from canteen food art by selected chefs to BYOP (Bring Your Own Pizza or … ). \nTo make a reservation for dinner\, share your ideas or offer your help\, please send a message to kantine@grond.community or contact us via the SSC Balreep signal-group.
URL:https://grond.community/event/sport-spel-club-balreep-copy-2/
CATEGORIES:Food,Games,Meetup,Screening,Sports,SSCB
ATTACH;FMTTYPE=image/jpeg:https://grond.community/wp-content/uploads/2025/04/Ballreep_4.jpg
ORGANIZER;CN="SSC Balreep":MAILTO:info@newemergences.com
END:VEVENT
BEGIN:VEVENT
DTSTART;TZID=Europe/Amsterdam:20250926T200000
DTEND;TZID=Europe/Amsterdam:20250926T230000
DTSTAMP:20260421T042408
CREATED:20250904T143132Z
LAST-MODIFIED:20250909T183800Z
UID:2185-1758916800-1758927600@grond.community
SUMMARY:TEMPERATURA
DESCRIPTION:w/ DECONSTRUCTED MELODIES\n20:30 (doors: 20:00)\nTickets: regular €10 (or more) / discount €7 – available at the door & online \n\nTEMPERATURA opens this concert season with DECONSTRUCTED MELODIES\, a quartet consisting of the musicians Peter van Bergen\, Jeroen Kimman\, Koen Nutters\, and Gert-Jan Prins.\n \nAn all-star band of four Dutch musical personalities who\, between them\, have done everything imaginable in the field of music. Organising and improvising inside of every layer of the music business\, curating concerts\, series and venues\, leading bands and ensembles\, playing with the greats\, travelling the world. Coming from different generations and directions of noisemaking\, here\, in this quartet setting\, they share their love of melodic improvisation in a floaty memory game of pieces played and pieces heard. Deftly moving around each other\, leaving space to create\, each on their own\, layers of tempo\, punctuation\, melody\, and lyricism. Playing their own compositions alongside classic pieces from Dutch colleagues (Mengelberg\, Altena) and American originators such as Sun Ra\, Carla Bley\, Anthony Braxton\, Ornette Coleman\, and more to blend in. Trying to find a tone\, an expression\, playing contemplative noise-jazz melodies in an airy space of contemplation\, together alone\, alone together\, creating balance between space\, time\, and culture\, with a logic of the post-modern and a sensitivity of the cultural here and now. \nPeter van Bergen – tenor sax\nJeroen Kimman – electric guitar\nKoen Nutters – electro-acoustic bass guitar\nGert-Jan Prins – percussion\, electronics \n_____________ \nTEMPERATURA is a concert series initiated by composers/performers and GROND members Jasna Veličković and Fani Konstantinidou. The series focuses on contemporary music from the Netherlands and beyond\, aiming to bring together its diverse expressions. By promoting the wide spectrum of contemporary musical stimuli\, TEMPERATURA seeks to bridge the gap between musicians\, composers\, and performers from different musical backgrounds. Through these temporary crossings\, we aim to create an environment—a playful space for experimentation and open ears—that fosters performing\, creating\, and experiencing music together. Ultimately\, TEMPERATURA strives to bring fresh musical adventures to local audiences and to spread today’s artistic practices.
URL:https://grond.community/event/temperatura-26-09/
LOCATION:GROND\, Bijdorpstraat 1\, Amsterdam\, 1096AP\, Netherlands
CATEGORIES:Music,performance
ATTACH;FMTTYPE=image/jpeg:https://grond.community/wp-content/uploads/2025/09/Temperatura-260925_small.jpg
ORGANIZER;CN="GROND":MAILTO:info (at) grond (dot) community
END:VEVENT
BEGIN:VEVENT
DTSTART;TZID=Europe/London:20250928T150000
DTEND;TZID=Europe/London:20250928T190000
DTSTAMP:20260421T042408
CREATED:20250923T141509Z
LAST-MODIFIED:20250923T141509Z
UID:2281-1759071600-1759086000@grond.community
SUMMARY:Grond Sunday Session #1
DESCRIPTION:Come to GROND\, hang out with us and wrap up your weekend with a family and hangover friendly session including live music\, DJs\, performance\, storytelling and anything else we can think of to ease you into next week. Session #1 features Marc Nukoop playing an eclectic DJ set\, and David Mitchell playing a live set on electric and acoustic guitar. We serve food and drinks\, and provide materials to get creative too. Bring your kids\, neighbours and friends! \n 
URL:https://grond.community/event/grond-sunday-session-1/
LOCATION:GROND\, Bijdorpstraat 1\, Amsterdam\, 1096AP\, Netherlands
CATEGORIES:Music
ATTACH;FMTTYPE=image/png:https://grond.community/wp-content/uploads/2025/09/GROND-Sunday-Sessions-1.png
END:VEVENT
BEGIN:VEVENT
DTSTART;TZID=Europe/London:20250930T190000
DTEND;TZID=Europe/London:20250930T210000
DTSTAMP:20260421T042408
CREATED:20250730T180718Z
LAST-MODIFIED:20250730T180718Z
UID:2133-1759258800-1759266000@grond.community
SUMMARY:Study Circle - Palestine
DESCRIPTION:We’re excited to announce a new study space initiative from Feministas en Holanda! a ritual\, collective and horizontal space\, a series of regular gatherings to share knowledge rooted in decolonial feminism and the many struggles that shape our activism and affects. \nDates and registration >>> \nTuesdays / 19:00–21:00 \nAugust 5\, 19\, September 2\, 16\, 30\, October 7. \n•⁠ ⁠Aug 5 – Decolonial Feminism(s)\n•⁠ ⁠Aug 19 – Antimilitarism\n•⁠ ⁠Sept 2 – Antiracism\n•⁠ ⁠Sept 16 – Anticapitalism\n•⁠ ⁠Sept 30 – Palestine\n•⁠ ⁠Oct 7 – Revolution and Activism \nIf you’re interested to join\, send an email to feministasenholanda@gmail.com and we’ll share more information about how to participate and co-create this space with us. \n🔥 Together\, we nurture a space for collective reflection\, radical imagination\, and embodied resistance and liberation.
URL:https://grond.community/event/study-circle-palestine/
ATTACH;FMTTYPE=image/jpeg:https://grond.community/wp-content/uploads/2025/07/feministas-study-circle-grondweb.jpg
END:VEVENT
END:VCALENDAR