
BEGIN:VCALENDAR
VERSION:2.0
PRODID:-// - ECPv6.15.20//NONSGML v1.0//EN
CALSCALE:GREGORIAN
METHOD:PUBLISH
X-ORIGINAL-URL:https://grond.community
X-WR-CALDESC:Events for 
REFRESH-INTERVAL;VALUE=DURATION:PT1H
X-Robots-Tag:noindex
X-PUBLISHED-TTL:PT1H
BEGIN:VTIMEZONE
TZID:Europe/London
BEGIN:DAYLIGHT
TZOFFSETFROM:+0000
TZOFFSETTO:+0100
TZNAME:BST
DTSTART:20240331T010000
END:DAYLIGHT
BEGIN:STANDARD
TZOFFSETFROM:+0100
TZOFFSETTO:+0000
TZNAME:GMT
DTSTART:20241027T010000
END:STANDARD
BEGIN:DAYLIGHT
TZOFFSETFROM:+0000
TZOFFSETTO:+0100
TZNAME:BST
DTSTART:20250330T010000
END:DAYLIGHT
BEGIN:STANDARD
TZOFFSETFROM:+0100
TZOFFSETTO:+0000
TZNAME:GMT
DTSTART:20251026T010000
END:STANDARD
BEGIN:DAYLIGHT
TZOFFSETFROM:+0000
TZOFFSETTO:+0100
TZNAME:BST
DTSTART:20260329T010000
END:DAYLIGHT
BEGIN:STANDARD
TZOFFSETFROM:+0100
TZOFFSETTO:+0000
TZNAME:GMT
DTSTART:20261025T010000
END:STANDARD
END:VTIMEZONE
BEGIN:VEVENT
DTSTART;TZID=Europe/London:20250301T163000
DTEND;TZID=Europe/London:20250301T210000
DTSTAMP:20260421T142711
CREATED:20250212T124115Z
LAST-MODIFIED:20250212T124344Z
UID:1187-1740846600-1740862800@grond.community
SUMMARY:Tejiendo resistencias / Weaving resistance with Feministas en Holanda / Feminists in the Netherlands
DESCRIPTION:To gather and to share are part of our bodies\, of how we understand and relate to the world. These actions give us the chance to imagine new worlds\, together!\n\n\nWe want to invite you on the 1st of March from 16:30 to 21:00 at GROND to keep weaving resistance. This is not a workshop. We want to hang out\, listen\, share\, and get to know each other while continuing to weave a large arpillera we started last year\, as a symbol of our community\, hermandad\, and existence in this territory. You can add your voice there\, or make your banner\, up to on you\, we will be there to facilitate :).\n\n\nA table with mixed materials for banner & textile making will be available\, so we can express our voices in whatever medium feels most comfortable for each one of us.\n\nTo celebrate our togetherness\, we will finish the night around the fire\, starting with a small ritual and ending with an Aquelarre!\n\nSo\, come join us to weave\, burn\, and care before 8M <3\n\nIf you want to participate\, please write to us at feministasenholanda@gmail.com. We also have a chat to organize our participation in the 8M demonstration. Let us know in your email if you’re interested in being added.\n\n\nDATE: 1ST MARCH\nTIME: 16:30 – 21:00\nPLACE: GROND – BIJDORPSTRAAT 1\, AMSTERDAM
URL:https://grond.community/event/tejiendo-resistencias-weaving-resistance-with-feministas-en-holanda-feminists-in-the-netherlands/
ATTACH;FMTTYPE=image/png:https://grond.community/wp-content/uploads/2025/02/Screenshot-2025-02-12-at-14.35.10-e1739367582510.png
ORGANIZER;CN="Andrea Elera":MAILTO:feministasenholanda@gmail.com
END:VEVENT
BEGIN:VEVENT
DTSTART;TZID=Europe/London:20250302T110000
DTEND;TZID=Europe/London:20250302T160000
DTSTAMP:20260421T142711
CREATED:20250203T202521Z
LAST-MODIFIED:20250211T175955Z
UID:1125-1740913200-1740931200@grond.community
SUMMARY:The Breaking of the Bread - Community Brunch / Comfort Food & Connection
DESCRIPTION:At the heart of this brunch\, organised by GROND member Ramon Smit\, is the simple act of coming together. A large shared table will be set with freshly baked bread\, plant-based dips\, and toppings\, all designed to be passed around\, encouraging conversation and connection. \nThis is a donation-based event\, open to everyone. For those who’d like something extra\, there will be 2-3 seasonal à la carte dishes available for order\, covering basic ingredient costs and labor. These dishes are thoughtfully prepared to reflect the spirit of comfort food.\n\nYou’re welcome to drop in whenever it suits you within the set time-frame. Find your place at the table\, break bread\, and share not just food\, but stories\, laughter\, and moments of connection.\n\nNo need to register!
URL:https://grond.community/event/the-breaking-of-the-bread-community-brunch-comfort-food-connection/
LOCATION:GROND\, Bijdorpstraat 1\, Amsterdam\, 1096AP\, Netherlands
CATEGORIES:Food
ATTACH;FMTTYPE=image/jpeg:https://grond.community/wp-content/uploads/2025/02/image0-e1738617996483.jpeg
ORGANIZER;CN="GROND":MAILTO:info (at) grond (dot) community
END:VEVENT
BEGIN:VEVENT
DTSTART;TZID=Europe/London:20250307T173000
DTEND;TZID=Europe/London:20250307T230000
DTSTAMP:20260421T142711
CREATED:20250211T173137Z
LAST-MODIFIED:20250211T190255Z
UID:1151-1741368600-1741388400@grond.community
SUMMARY:Solidarity Iftar #1 with We Sell Reality
DESCRIPTION:Four Iftars\, fast-breaking evening meals\, in March 2025\nDuring Ramadan 2025 the artist collective We Sell Reality organizes so-called Solidarity Iftars at four Friday evenings in a row. Every Solidarity Iftar will have a focus on a certain area of conflict that is not much in the news. Together we want to break the fasting and stand still with these conflicts and developments and learn about them. We will focus on four countries: Sudan\, Haiti\, Congo and Syria. We will invite speakers who can tell us the ins and outs of what is going on in these countries. \nThe Iftars will be prepared by We Sell Reality. In return of a donation of €15 you can eat and drink. 1/3 of the sum you lay in will go to a grassroots organization in one of these four countries. Together we pray/wish/hope for a better future for all people in need. \nWhen will the Iftars be?\nThe Iftars will be at Friday the 7th of March\, Friday the 14th of March\, Friday the 21st of March and Friday the 28th of March from 17:30 till 23:00 at GROND. \nWho is We Sell Reality?\nWe Sell Reality is an artistic collective that makes the struggles of refugees visible through art and organizing gatherings. \n  \nPhoto by Farouk Ebaiss for the Symposium Suns and Stars
URL:https://grond.community/event/solidarity-iftars-with-we-sell-reality/
LOCATION:GROND\, Bijdorpstraat 1\, Amsterdam\, 1096AP\, Netherlands
CATEGORIES:Food,Solidarity
ATTACH;FMTTYPE=image/png:https://grond.community/wp-content/uploads/2025/02/Screenshot-2025-02-11-at-19.32.17-e1739298863285.png
ORGANIZER;CN="We Sell Reality":MAILTO:elke@bajesdorp.nl
END:VEVENT
BEGIN:VEVENT
DTSTART;TZID=Europe/London:20250309T200000
DTEND;TZID=Europe/London:20250309T220000
DTSTAMP:20260421T142711
CREATED:20250105T183759Z
LAST-MODIFIED:20250307T071855Z
UID:1069-1741550400-1741557600@grond.community
SUMMARY:Aldrich/Bol/van Dijk/Valeriano\, & Ties Mellema and Robin Koek
DESCRIPTION:Electronic music\, saxophones\, keyboards\, and spoken word\nBy Ties Mellema & the new band Aldrich/Bol/van Dijk/Valeriano. Special guest Robin Koek. Our Canteen is open\, serving delicious food from 18:00 hrs onwards! \nGROND Bijdorpstraat 1\, 1096AP\, Amsterdam\nMusic starts at 20:00 – dinner will be served from 18:30\nTickets: regular €10 (or more) / discount €7 – available at the door or online here.\nDinner: + €12\,5 (RSVP required – Reserve by purchasing online) \nIvo Bol and Ties Mellema have played together for many years. Now they join forces with keyboardist and composer Tom Aldrich\, saxophonist Michiel van Dijk and spoken word artist Jeannine Valeriano. \nABOUT THE ARTISTS \nJeannine Valeriano is a writer\, singer\, spoken word performer and actress\, exploring the boundaries between language and music. \n \nMichiel van Dijk studied classical saxophone with Leo van Oostrom and jazz saxophone with John Ruocco at the Koninklijk Conservatorium in Den Haag. Michiel has played with almost all the renowned orchestras and ensembles in the Netherlands. Additionally\, he has collaborated with various theater productions and ensembles as a composer and arranger. \n \nTom Aldrich is the leader of the group Zolder Ellipsis and was a co-founder of the Four Bags. He has worked with artists such as a.o. Kurt Rosenwinkel\, Bang on a Can\, Jackie Cain. \n \nTaking on and then overcoming challenges and telling a story are always at the heart of Ties Mellema’s work. Whether it’s the false-polyphonic cello suites by Johann Sebastian Bach on baritone saxophone\, the monomaniac Gradus by Philip Glass or the extreme free jazz by his hero John Coltrane: Ties Mellema always goes in search of the boundaries of disciplines and the possibilities on his instrument. \n \nRobin Koek is an enterprising sound artist who aspires to nurture a new cognitive understanding of the world surrounding us mediated through art and education. These realities can be experienced as dynamic environments in which sensory feedback to the interactor is an essential component.
URL:https://grond.community/event/ties-mellema-vinkepeezer-tom-aldrich-jeannine-valeriano/
CATEGORIES:Music
ATTACH;FMTTYPE=image/jpeg:https://grond.community/wp-content/uploads/2025/01/Jeannine_Ben-van-Duin.jpg
END:VEVENT
BEGIN:VEVENT
DTSTART;TZID=Europe/London:20250312T180000
DTEND;TZID=Europe/London:20250312T230000
DTSTAMP:20260421T142711
CREATED:20250201T163531Z
LAST-MODIFIED:20250201T163531Z
UID:1122-1741802400-1741820400@grond.community
SUMMARY:Sport & Spel Club Balreep
DESCRIPTION:Sport & Spel Club Balreep is the name a weekly game night\, It refers to the local football club that was founded in 2013 out of Op de Valreep an Vereniging Bajesdorp. bring your own game\, weerwolven etc.
URL:https://grond.community/event/sport-spel-club-balreep-7/
CATEGORIES:Games
ATTACH;FMTTYPE=image/jpeg:https://grond.community/wp-content/uploads/2025/02/Ballreep-e1739365412701.jpeg
END:VEVENT
BEGIN:VEVENT
DTSTART;TZID=Europe/London:20250314T173000
DTEND;TZID=Europe/London:20250314T230000
DTSTAMP:20260421T142711
CREATED:20250211T174137Z
LAST-MODIFIED:20250211T190229Z
UID:1155-1741973400-1741993200@grond.community
SUMMARY:Solidarity Iftar #2 with We Sell Reality
DESCRIPTION:Four Iftars\, fast-breaking evening meals\, in March 2025\nDuring Ramadan 2025 the artist collective We Sell Reality organizes so-called Solidarity Iftars at four Friday evenings in a row. Every Solidarity Iftar will have a focus on a certain area of conflict that is not much in the news. Together we want to break the fasting and stand still with these conflicts and developments and learn about them. We will focus on four countries: Sudan\, Haiti\, Congo and Syria. We will invite speakers who can tell us the ins and outs of what is going on in these countries. \nThe Iftars will be prepared by We Sell Reality. In return of a donation of €15 you can eat and drink. 1/3 of the sum you lay in will go to a grassroots organization in one of these four countries. Together we pray/wish/hope for a better future for all people in need. \nWhen will the Iftars be?\nThe Iftars will be at Friday the 7th of March\, Friday the 14th of March\, Friday the 21st of March and Friday the 28th of March from 17:30 till 23:00 at GROND. \nWho is We Sell Reality?\nWe Sell Reality is an artistic collective that makes the struggles of refugees visible through art and organizing gatherings. \n  \nPhoto by Farouk Ebaiss for the symposium Suns and Stars
URL:https://grond.community/event/solidarity-iftars-with-we-sell-reality-2/
LOCATION:GROND\, Bijdorpstraat 1\, Amsterdam\, 1096AP\, Netherlands
CATEGORIES:Food,Solidarity
ATTACH;FMTTYPE=image/png:https://grond.community/wp-content/uploads/2025/02/Screenshot-2025-02-11-at-19.32.27-e1739299658791.png
ORGANIZER;CN="We Sell Reality":MAILTO:elke@bajesdorp.nl
END:VEVENT
BEGIN:VEVENT
DTSTART;TZID=Europe/London:20250315T170000
DTEND;TZID=Europe/London:20250315T230000
DTSTAMP:20260421T142711
CREATED:20250226T160602Z
LAST-MODIFIED:20250315T010246Z
UID:1287-1742058000-1742079600@grond.community
SUMMARY:SNCKBAR: NOMIII trio
DESCRIPTION:Music by NOMIII trio & Mark Nieuwenhuis\n+\nSnacks (or full dinner) at the bar before and during the concert!\nGROND Bijdorpstraat 1\, 1096AP\, Amsterdam\nMusic starts at 20:00 – our SNCKBAR is open from 17:00\nTickets: regular €10 (or more) / discount €7 – available at the door or online here.\nFull Dinner: + €17\,5  – option to order individual plates at the bar.\nfor full dinner\, please RSVP by purchasing online. All plates are vegetarian/vegan* \n  \nABOUT the Artists \nNOMIII is an Amsterdam trio consisting of Bernt Nellen (drums)\, Yrjana Rankka (contrabass)\, and Sebastian Janusz (piano). Special Guest that evenuing: Mark Nieuwenhuis (trumpet/flugelhorn). \nNOMIII played in Bajesdorp in the old Muiterij several times before\, this is the first time they come to GROND. \nCheck their music here \n  \n*SNCKBAR Menu 🌶️\nby Judith Baten & Ramon Smit \nSoup\nginger / carrot / orange soup \nSalad\nlima beans and green beans with jasmine-yoghurt dressing \nSnacks\ncauliflower pie / polenta muffin with Brussels sprouts / leak pancake \nDessert\nCitrus poppyseed cake
URL:https://grond.community/event/concert-trio-nomiii/
LOCATION:GROND\, Bijdorpstraat 1\, Amsterdam\, 1096AP\, Netherlands
CATEGORIES:Food,Music,performance
ATTACH;FMTTYPE=image/jpeg:https://grond.community/wp-content/uploads/2025/02/NOMIII_grond_20250315_foto.jpeg
ORGANIZER;CN="GROND":MAILTO:info (at) grond (dot) community
END:VEVENT
BEGIN:VEVENT
DTSTART;TZID=Europe/London:20250319T180000
DTEND;TZID=Europe/London:20250319T230000
DTSTAMP:20260421T142711
CREATED:20250307T082327Z
LAST-MODIFIED:20250423T112552Z
UID:1359-1742407200-1742425200@grond.community
SUMMARY:Sport & Spel Club Balreep
DESCRIPTION:Sport & Spel Club Balreep is the name a weekly game night\, It refers to the local football club that was founded in 2013 out of Op de Valreep an Vereniging Bajesdorp. bring your own game\, weerwolven etc.
URL:https://grond.community/event/sport-spel-club-balreep-6/
CATEGORIES:Food,Games
ATTACH;FMTTYPE=image/jpeg:https://grond.community/wp-content/uploads/2025/04/Ballreep_4.jpg
END:VEVENT
BEGIN:VEVENT
DTSTART;TZID=Europe/London:20250321T173000
DTEND;TZID=Europe/London:20250321T230000
DTSTAMP:20260421T142711
CREATED:20250211T175424Z
LAST-MODIFIED:20250211T190310Z
UID:1159-1742578200-1742598000@grond.community
SUMMARY:Solidarity Iftar #3 with We Sell Reality
DESCRIPTION:Four Iftars\, fast-breaking evening meals\, in March 2025\nDuring Ramadan 2025 the artist collective We Sell Reality organizes so-called Solidarity Iftars at four Friday evenings in a row. Every Solidarity Iftar will have a focus on a certain area of conflict that is not much in the news. Together we want to break the fasting and stand still with these conflicts and developments and learn about them. We will focus on four countries: Sudan\, Haiti\, Congo and Syria. We will invite speakers who can tell us the ins and outs of what is going on in these countries. \nThe Iftars will be prepared by We Sell Reality. In return of a donation of €15 you can eat and drink. 1/3 of the sum you lay in will go to a grassroots organization in one of these four countries. Together we pray/wish/hope for a better future for all people in need. \nWhen will the Iftars be?\nThe Iftars will be at Friday the 7th of March\, Friday the 14th of March\, Friday the 21st of March and Friday the 28th of March from 17:30 till 23:00 at GROND. \nWho is We Sell Reality?\nWe Sell Reality is an artistic collective that makes the struggles of refugees visible through art and organizing gatherings. \n  \nPhoto by Farouk Ebaiss for the Symposium Suns and Stars
URL:https://grond.community/event/solidarity-iftars-with-we-sell-reality-3/
LOCATION:GROND\, Bijdorpstraat 1\, Amsterdam\, 1096AP\, Netherlands
CATEGORIES:Food,Solidarity
ATTACH;FMTTYPE=image/png:https://grond.community/wp-content/uploads/2025/02/Screenshot-2025-02-11-at-19.30.06-e1739300051684.png
ORGANIZER;CN="We Sell Reality":MAILTO:elke@bajesdorp.nl
END:VEVENT
BEGIN:VEVENT
DTSTART;TZID=Europe/London:20250326T180000
DTEND;TZID=Europe/London:20250326T230000
DTSTAMP:20260421T142711
CREATED:20250307T082457Z
LAST-MODIFIED:20250402T134016Z
UID:1361-1743012000-1743030000@grond.community
SUMMARY:Sport & Spel Club Balreep
DESCRIPTION:Sport & Spel Club Balreep is the name a weekly game night\, It refers to the local football club that was founded in 2013 out of Op de Valreep an Vereniging Bajesdorp. bring your own game\, weerwolven etc.
URL:https://grond.community/event/sport-spel-club-balreep-8/
CATEGORIES:Food,Games
ATTACH;FMTTYPE=image/jpeg:https://grond.community/wp-content/uploads/2025/02/Ballreep-e1739365412701.jpeg
END:VEVENT
BEGIN:VEVENT
DTSTART;TZID=Europe/London:20250328T173000
DTEND;TZID=Europe/London:20250328T230000
DTSTAMP:20260421T142711
CREATED:20250211T175841Z
LAST-MODIFIED:20250211T190348Z
UID:1166-1743183000-1743202800@grond.community
SUMMARY:Solidarity Iftar #4 with We Sell Reality
DESCRIPTION:Four Iftars\, fast-breaking evening meals\, in March 2025\nDuring Ramadan 2025 the artist collective We Sell Reality organizes so-called Solidarity Iftars at four Friday evenings in a row. Every Solidarity Iftar will have a focus on a certain area of conflict that is not much in the news. Together we want to break the fasting and stand still with these conflicts and developments and learn about them. We will focus on four countries: Sudan\, Haiti\, Congo and Syria. We will invite speakers who can tell us the ins and outs of what is going on in these countries. \nThe Iftars will be prepared by We Sell Reality. In return of a donation of €15 you can eat and drink. 1/3 of the sum you lay in will go to a grassroots organization in one of these four countries. Together we pray/wish/hope for a better future for all people in need. \nWhen will the Iftars be?\nThe Iftars will be at Friday the 7th of March\, Friday the 14th of March\, Friday the 21st of March and Friday the 28th of March from 17:30 till 23:00 at GROND. \nWho is We Sell Reality?\nWe Sell Reality is an artistic collective that makes the struggles of refugees visible through art and organizing gatherings. \n  \nPhoto by Farouk Ebaiss for the Symposium Suns and Stars
URL:https://grond.community/event/solidarity-iftars-with-we-sell-reality-4/
LOCATION:GROND\, Bijdorpstraat 1\, Amsterdam\, 1096AP\, Netherlands
CATEGORIES:Food,Solidarity
ATTACH;FMTTYPE=image/png:https://grond.community/wp-content/uploads/2025/02/Screenshot-2025-02-11-at-19.33.20-e1739300307138.png
ORGANIZER;CN="We Sell Reality":MAILTO:elke@bajesdorp.nl
END:VEVENT
BEGIN:VEVENT
DTSTART;TZID=Europe/London:20250329T170000
DTEND;TZID=Europe/London:20250329T230000
DTSTAMP:20260421T142711
CREATED:20250306T081555Z
LAST-MODIFIED:20250306T081637Z
UID:1348-1743267600-1743289200@grond.community
SUMMARY:SNCKBAR #2
DESCRIPTION:Snacks at the bar before and during the concert!\nGROND Bijdorpstraat 1\, 1096AP\, Amsterdam\nDoors open at 17:00\nTickets: €17\,5 (or more) – available at the door or online here.
URL:https://grond.community/event/snckbar-2/
LOCATION:GROND\, Bijdorpstraat 1\, Amsterdam\, 1096AP\, Netherlands
CATEGORIES:Food,Music
ATTACH;FMTTYPE=image/jpeg:https://grond.community/wp-content/uploads/2025/02/bar-grond-copy-Large.jpeg
ORGANIZER;CN="GROND":MAILTO:info (at) grond (dot) community
END:VEVENT
BEGIN:VEVENT
DTSTART;TZID=Europe/London:20250330T140000
DTEND;TZID=Europe/London:20250330T220000
DTSTAMP:20260421T142711
CREATED:20250329T111943Z
LAST-MODIFIED:20250329T111943Z
UID:1423-1743343200-1743372000@grond.community
SUMMARY:Sudanese Eid Benefit Party
DESCRIPTION:Sunday 30 or Monday 31 March 14:00-22:00 \ncheck instagram/wesellreality for the date \nCelebrating the end of the fasting period of Ramadan. \nWith DJ Fox \nFree event\, and donations are welcome! \nFood\, drinks\, Music \n  \n  \n 
URL:https://grond.community/event/sudanese-eid-benefit-party/
LOCATION:GROND\, Bijdorpstraat 1\, Amsterdam\, 1096AP\, Netherlands
CATEGORIES:Food,Music,Solidarity
ORGANIZER;CN="We Sell Reality":MAILTO:elke@bajesdorp.nl
END:VEVENT
END:VCALENDAR