
BEGIN:VCALENDAR
VERSION:2.0
PRODID:-// - ECPv6.15.20//NONSGML v1.0//EN
CALSCALE:GREGORIAN
METHOD:PUBLISH
X-ORIGINAL-URL:https://grond.community
X-WR-CALDESC:Events for 
REFRESH-INTERVAL;VALUE=DURATION:PT1H
X-Robots-Tag:noindex
X-PUBLISHED-TTL:PT1H
BEGIN:VTIMEZONE
TZID:Europe/London
BEGIN:DAYLIGHT
TZOFFSETFROM:+0000
TZOFFSETTO:+0100
TZNAME:BST
DTSTART:20230326T010000
END:DAYLIGHT
BEGIN:STANDARD
TZOFFSETFROM:+0100
TZOFFSETTO:+0000
TZNAME:GMT
DTSTART:20231029T010000
END:STANDARD
BEGIN:DAYLIGHT
TZOFFSETFROM:+0000
TZOFFSETTO:+0100
TZNAME:BST
DTSTART:20240331T010000
END:DAYLIGHT
BEGIN:STANDARD
TZOFFSETFROM:+0100
TZOFFSETTO:+0000
TZNAME:GMT
DTSTART:20241027T010000
END:STANDARD
BEGIN:DAYLIGHT
TZOFFSETFROM:+0000
TZOFFSETTO:+0100
TZNAME:BST
DTSTART:20250330T010000
END:DAYLIGHT
BEGIN:STANDARD
TZOFFSETFROM:+0100
TZOFFSETTO:+0000
TZNAME:GMT
DTSTART:20251026T010000
END:STANDARD
END:VTIMEZONE
BEGIN:VTIMEZONE
TZID:Europe/Amsterdam
BEGIN:DAYLIGHT
TZOFFSETFROM:+0100
TZOFFSETTO:+0200
TZNAME:CEST
DTSTART:20230326T010000
END:DAYLIGHT
BEGIN:STANDARD
TZOFFSETFROM:+0200
TZOFFSETTO:+0100
TZNAME:CET
DTSTART:20231029T010000
END:STANDARD
BEGIN:DAYLIGHT
TZOFFSETFROM:+0100
TZOFFSETTO:+0200
TZNAME:CEST
DTSTART:20240331T010000
END:DAYLIGHT
BEGIN:STANDARD
TZOFFSETFROM:+0200
TZOFFSETTO:+0100
TZNAME:CET
DTSTART:20241027T010000
END:STANDARD
BEGIN:DAYLIGHT
TZOFFSETFROM:+0100
TZOFFSETTO:+0200
TZNAME:CEST
DTSTART:20250330T010000
END:DAYLIGHT
BEGIN:STANDARD
TZOFFSETFROM:+0200
TZOFFSETTO:+0100
TZNAME:CET
DTSTART:20251026T010000
END:STANDARD
END:VTIMEZONE
BEGIN:VEVENT
DTSTART;TZID=Europe/London:20240907T140000
DTEND;TZID=Europe/London:20240907T200000
DTSTAMP:20260422T005209
CREATED:20240620T201315Z
LAST-MODIFIED:20240820T104038Z
UID:222-1725717600-1725739200@grond.community
SUMMARY:Open Day: GROND - 24 hours Oost
DESCRIPTION:Come meet GROND during our open day on September 7\, 2024! \nGROND is a breeding place in the new Bajesdorp building in Amsterdam East\, with a black box theater\, studios\, a canteen and gardens. GROND is a collective of artists\, composers\, chefs and other creative minds. The cross-pollinations between the gardens\, art\, technology\, performance and music will be shaped into concerts\, performances\, workshops\, movie nights and various other cultural activities starting in September 2024. \nStarting in 2003\, Bajesdorp was a series of squatted houses. Squatters worked and lived there for years in the vacant houses originally intended for the prison guards of the Bijlmer Bajes. These have since been demolished and a new neighborhood is taking their place: “The Bajeskwartier. Here\, Bajesdorp rises from its ashes with a new place for experimentation and solidarity\, run by the collective GROND. \nGROND is located in the Bajesdorp building\, a 10-minute walk from subway station Spaklerweg. Bajesdorp is a wooden building behind Hotel Jansen\, unfortunately not visible from Wenckenbachweg. \nIncluding: \n\ntour of the building and garden\nkids workshop\nmusic by DJ Quartier Mustache\nour kitchen is open for drinks and food!\n\n\nKom kennismaken met GROND tijdens onze open dag op 7 september 2024! \nGROND is een broedplaats in het nieuwe Bajesdorp gebouw in Amsterdam Oost\, met een black box theater\, studio’s\, een kantine en tuinen. GROND is een collectief van kunstenaars\, componisten\, chefs en andere creatieve geesten. De kruisbestuivingen tussen de tuinen\, kunst\, technologie\, performance en muziek worden vanaf september 2024 vormgegeven in concerten\, optredens\, workshops\, filmavonden en diverse andere culturele activiteiten. \nBajesdorp was vanaf 2003 een serie van kraakwoningen. Krakers werkten en woonden daar jarenlang in de leegstaande huizen die oorspronkelijk bedoeld waren voor de gevangenisbewakers van de Bijlmer Bajes. Deze zijn inmiddels afgebroken en er komt nu een nieuwe wijk voor in de plaats: ‘Het Bajeskwartier’. Bajesdorp herrijst hier uit haar as met een nieuwe plek voor experiment en solidariteit\, die gerund wordt door het collectief Grond. \nGROND is gevestigd in het Bajesdorp gebouw\, 10 minuten lopen vanaf metrohalte Spaklerweg. Bajesdorp is een houten gebouw achter Hotel Jansen\, helaas niet zichtbaar vanaf de Wenckenbachweg. \nMet o.a. \n\nrondleiding door het gebouw en de tuin\nkids workshop\nmuziek van DJ Quartier Mustache\nOnze keuken die open is voor drankjes en een maaltijd
URL:https://grond.community/event/oost-24/
LOCATION:GROND\, Bijdorpstraat 1\, Amsterdam\, 1096AP\, Netherlands
ATTACH;FMTTYPE=image/jpeg:https://grond.community/wp-content/uploads/2024/06/DSC01182-1-scaled-e1720955257763.jpg
ORGANIZER;CN="GROND":MAILTO:info (at) grond (dot) community
END:VEVENT
BEGIN:VEVENT
DTSTART;TZID=Europe/Amsterdam:20240905T200000
DTEND;TZID=Europe/Amsterdam:20240905T223000
DTSTAMP:20260422T005209
CREATED:20240811T122410Z
LAST-MODIFIED:20240820T103948Z
UID:517-1725566400-1725575400@grond.community
SUMMARY:Concert: M. Koutsomichalis\, F. Konstantinidou
DESCRIPTION:Electronic music / Noise / Improvisation\nw/ Marinos Koutsomichalis\, Fani Konstantinidou\nGROND Bijdorpstraat 1\, 1096AP\, Amsterdam\n20:00 (doors: 19:30)\nTickets: regular €10 or more\, discount €6\n \n\nGROND opens its doors for an electronic-improvisation music concert. Marinos Koutsomichalis (GR/CY) will open the evening with a solo post-human radio performance utilizing his DIY instruments. In the second half of the evening\, the GROND member Fani Konstantinidou will join him for a duo live electronics improvisation set. \nMarinos Koutsomichalis is an artist\, scholar\, and creative technologist based in Greece and Cyprus. He is broadly interested in the materiality of self-generative systems\, (post)digital objecthood\, sound\, image\, data\, electronic circuitry\, perception\, selfhood\, landscapes/environments\, and the media—technologies we rely upon to mediate\, probe\, interact with.\nPost-human radio is an open-ended laboratory vis á vis radiofrequencies and radio related technologies. It manifests in a number of different fashions; most notably as an audio-based improvised performance piece\, but also with a series of bespoke instruments\, micro-compositions\, a diary of SWLing (shortwave listening) and QSOs (amateur radio contacts)\, field radio-walks\, and other. \n \n  \nFani Konstantinidou is a composer and performer interested in the sonic imprints of cultural\, cross-cultural\, and social identities. Her musical ideas are expressed in various formats such as site-specific and multichannel compositions\, improvisation\, and through collaborative projects with artists of various disciplines. Within this context\, she performs live-electronics and composes music for solo instruments and small ensembles. \n \n 
URL:https://grond.community/event/music-performance-marinos-koutsomichalis-fani-konstantinidou/
LOCATION:GROND\, Bijdorpstraat 1\, Amsterdam\, 1096AP\, Netherlands
CATEGORIES:Music
ATTACH;FMTTYPE=image/png:https://grond.community/wp-content/uploads/2024/08/Marinos-Koutsomichalis-e1723384235975.png
ORGANIZER;CN="GROND":MAILTO:info (at) grond (dot) community
END:VEVENT
END:VCALENDAR