
BEGIN:VCALENDAR
VERSION:2.0
PRODID:-// - ECPv6.15.20//NONSGML v1.0//EN
CALSCALE:GREGORIAN
METHOD:PUBLISH
X-ORIGINAL-URL:https://grond.community
X-WR-CALDESC:Events for 
REFRESH-INTERVAL;VALUE=DURATION:PT1H
X-Robots-Tag:noindex
X-PUBLISHED-TTL:PT1H
BEGIN:VTIMEZONE
TZID:Europe/Amsterdam
BEGIN:DAYLIGHT
TZOFFSETFROM:+0100
TZOFFSETTO:+0200
TZNAME:CEST
DTSTART:20250330T010000
END:DAYLIGHT
BEGIN:STANDARD
TZOFFSETFROM:+0200
TZOFFSETTO:+0100
TZNAME:CET
DTSTART:20251026T010000
END:STANDARD
BEGIN:DAYLIGHT
TZOFFSETFROM:+0100
TZOFFSETTO:+0200
TZNAME:CEST
DTSTART:20260329T010000
END:DAYLIGHT
BEGIN:STANDARD
TZOFFSETFROM:+0200
TZOFFSETTO:+0100
TZNAME:CET
DTSTART:20261025T010000
END:STANDARD
BEGIN:DAYLIGHT
TZOFFSETFROM:+0100
TZOFFSETTO:+0200
TZNAME:CEST
DTSTART:20270328T010000
END:DAYLIGHT
BEGIN:STANDARD
TZOFFSETFROM:+0200
TZOFFSETTO:+0100
TZNAME:CET
DTSTART:20271031T010000
END:STANDARD
END:VTIMEZONE
BEGIN:VEVENT
DTSTART;TZID=Europe/Amsterdam:20260507T200000
DTEND;TZID=Europe/Amsterdam:20260507T220000
DTSTAMP:20260421T025925
CREATED:20260410T094155Z
LAST-MODIFIED:20260410T100101Z
UID:3100-1778184000-1778191200@grond.community
SUMMARY:David Mitchell's Natural Light - album release
DESCRIPTION:Grond member David Mitchell presents his new solo album Natural Light.  The album is an exploration of the interaction of light and memory\, looking at how qualities of light evoke memories both specific and universal.  Recorded in single takes\, without edits and overdubs\, the six pieces on the album were created using the Soma Cosmos\, a complex delay system that allows Mitchell to build shifting soundscapes that metamorphose over the course of performance.  Over this sonic tapestry\, Mitchell builds improvised lines that recall the work of John McLaughlin on the seminal Miles Davis release In a Silent Way. For this performance\, Mitchell will be accompanied by the renowned saxophone and flute player Finn Peters\, who has played with Bill Frisell\, Sam Rivers\, Evan Parker\, Marlena Shaw and many others\, and award winning dancer and film maker Andrea Hackl.   Expect wide ranging\, psychedelic improvisations.  Entry by donation\, free download of the album for donations over 15 euros.
URL:https://grond.community/event/david-mitchells-natural-light-album-release/
ATTACH;FMTTYPE=image/jpeg:https://grond.community/wp-content/uploads/2026/04/Fractal-2.jpg
END:VEVENT
BEGIN:VEVENT
DTSTART;TZID=Europe/Amsterdam:20260510T143000
DTEND;TZID=Europe/Amsterdam:20260510T170000
DTSTAMP:20260421T025925
CREATED:20260313T161607Z
LAST-MODIFIED:20260313T161607Z
UID:3043-1778423400-1778432400@grond.community
SUMMARY:Lokhipster Album Launch
DESCRIPTION:Lokhipster presents its debut album Protect\, experimental songcraft\, krautrock\, free jazz and illbient\n\n\nRooted in five continents\, the musical alchemists of Amsterdam based band Lokhipster come from all corners of the music world. An adventurer who picks up sounds like pearls from the street and who turns the world as we know it upside down. A spoken word performer who tells emotions with a special sound of her own – between speaking\, chant singing and sound language. A virtuoso pianist who\, with his compositions between jazz\, rock and pop\, throws striking musical punches into the spotlight. A horn player who masters the entire palette of reeds – from saxophone to bass clarinet – and blows his sound into the world full of light-footed lyricism and soul. \n\nhttps://lokhipster.bandcamp.com/album/protect \nJeannine Valeriano – voice\, spoken word \nMichiel van Dijk – reeds \nTom Aldrich – keyboards \nIvo Bol – synthesizers\, samplers
URL:https://grond.community/event/lokhipster-album-launch/
CATEGORIES:Music
ATTACH;FMTTYPE=image/jpeg:https://grond.community/wp-content/uploads/2026/03/beeld-1.jpeg
END:VEVENT
BEGIN:VEVENT
DTSTART;TZID=Europe/Amsterdam:20260514T190000
DTEND;TZID=Europe/Amsterdam:20260514T210000
DTSTAMP:20260421T025925
CREATED:20260416T132839Z
LAST-MODIFIED:20260416T133031Z
UID:3132-1778785200-1778792400@grond.community
SUMMARY:EMBER #2
DESCRIPTION:Thursday\, 14 May\, 19:00–21:00\nTickets Online: regular €10 / discount: 7 – At the door: €12\,50 \nThis time we invite ceramic artist Su Melo and sound artist iulia aionesi to our ambient space at GROND. You can expect moving clay sculptures and a music set featuring field recordings—alongside a crafting station to experiment with air dry clay! \nEMBER is a space to listen\, create\, and linger. With a music set and a creative workshop station that are thematically centered around one visual artwork\, each session invites the audience to sink in to observing visual art pieces\, let their minds flow with the music and play with art materials to process it all. \nCome early\, sink in the space and stay for soup!
URL:https://grond.community/event/ember-2/
LOCATION:GROND\, Bijdorpstraat 1\, Amsterdam\, 1096AP\, Netherlands
CATEGORIES:Music,visual art,Workshop
ATTACH;FMTTYPE=image/jpeg:https://grond.community/wp-content/uploads/2026/04/EMBER-2.jpg
ORGANIZER;CN="GROND":MAILTO:info (at) grond (dot) community
END:VEVENT
BEGIN:VEVENT
DTSTART;TZID=Europe/Amsterdam:20260518T200000
DTEND;TZID=Europe/Amsterdam:20260518T223000
DTSTAMP:20260421T025925
CREATED:20260410T100024Z
LAST-MODIFIED:20260410T100024Z
UID:3106-1779134400-1779143400@grond.community
SUMMARY:Orb Weaver with Maarten Visser
DESCRIPTION:Grond’s resident ambient jazz transgressors Orb Weaver welcome Chennai-based saxophonist and composer Maarten Visser.  With David Mitchell (guitar\, electronics)\, Robbert van Hulzen (drums) and Lorenzo Servali (bass\, electronics)\, expect long form improvisations with absolutely no respect for tradition.  8pm sliding scale for entry.
URL:https://grond.community/event/orb-weaver-with-maarten-visser/
LOCATION:GROND\, Bijdorpstraat 1\, Amsterdam\, 1096AP\, Netherlands
ATTACH;FMTTYPE=image/png:https://grond.community/wp-content/uploads/2026/04/Orb-Weaver-5.png
END:VEVENT
END:VCALENDAR