
BEGIN:VCALENDAR
VERSION:2.0
PRODID:-// - ECPv6.15.20//NONSGML v1.0//EN
CALSCALE:GREGORIAN
METHOD:PUBLISH
X-ORIGINAL-URL:https://grond.community
X-WR-CALDESC:Events for 
REFRESH-INTERVAL;VALUE=DURATION:PT1H
X-Robots-Tag:noindex
X-PUBLISHED-TTL:PT1H
BEGIN:VTIMEZONE
TZID:Europe/Amsterdam
BEGIN:DAYLIGHT
TZOFFSETFROM:+0100
TZOFFSETTO:+0200
TZNAME:CEST
DTSTART:20250330T010000
END:DAYLIGHT
BEGIN:STANDARD
TZOFFSETFROM:+0200
TZOFFSETTO:+0100
TZNAME:CET
DTSTART:20251026T010000
END:STANDARD
BEGIN:DAYLIGHT
TZOFFSETFROM:+0100
TZOFFSETTO:+0200
TZNAME:CEST
DTSTART:20260329T010000
END:DAYLIGHT
BEGIN:STANDARD
TZOFFSETFROM:+0200
TZOFFSETTO:+0100
TZNAME:CET
DTSTART:20261025T010000
END:STANDARD
BEGIN:DAYLIGHT
TZOFFSETFROM:+0100
TZOFFSETTO:+0200
TZNAME:CEST
DTSTART:20270328T010000
END:DAYLIGHT
BEGIN:STANDARD
TZOFFSETFROM:+0200
TZOFFSETTO:+0100
TZNAME:CET
DTSTART:20271031T010000
END:STANDARD
END:VTIMEZONE
BEGIN:VEVENT
DTSTART;TZID=Europe/Amsterdam:20260518T200000
DTEND;TZID=Europe/Amsterdam:20260518T223000
DTSTAMP:20260420T210248
CREATED:20260410T100024Z
LAST-MODIFIED:20260410T100024Z
UID:3106-1779134400-1779143400@grond.community
SUMMARY:Orb Weaver with Maarten Visser
DESCRIPTION:Grond’s resident ambient jazz transgressors Orb Weaver welcome Chennai-based saxophonist and composer Maarten Visser.  With David Mitchell (guitar\, electronics)\, Robbert van Hulzen (drums) and Lorenzo Servali (bass\, electronics)\, expect long form improvisations with absolutely no respect for tradition.  8pm sliding scale for entry.
URL:https://grond.community/event/orb-weaver-with-maarten-visser/
LOCATION:GROND\, Bijdorpstraat 1\, Amsterdam\, 1096AP\, Netherlands
ATTACH;FMTTYPE=image/png:https://grond.community/wp-content/uploads/2026/04/Orb-Weaver-5.png
END:VEVENT
END:VCALENDAR