
BEGIN:VCALENDAR
VERSION:2.0
PRODID:-// - ECPv6.15.20//NONSGML v1.0//EN
CALSCALE:GREGORIAN
METHOD:PUBLISH
X-ORIGINAL-URL:https://grond.community
X-WR-CALDESC:Events for 
REFRESH-INTERVAL;VALUE=DURATION:PT1H
X-Robots-Tag:noindex
X-PUBLISHED-TTL:PT1H
BEGIN:VTIMEZONE
TZID:Europe/London
BEGIN:DAYLIGHT
TZOFFSETFROM:+0000
TZOFFSETTO:+0100
TZNAME:BST
DTSTART:20240331T010000
END:DAYLIGHT
BEGIN:STANDARD
TZOFFSETFROM:+0100
TZOFFSETTO:+0000
TZNAME:GMT
DTSTART:20241027T010000
END:STANDARD
BEGIN:DAYLIGHT
TZOFFSETFROM:+0000
TZOFFSETTO:+0100
TZNAME:BST
DTSTART:20250330T010000
END:DAYLIGHT
BEGIN:STANDARD
TZOFFSETFROM:+0100
TZOFFSETTO:+0000
TZNAME:GMT
DTSTART:20251026T010000
END:STANDARD
BEGIN:DAYLIGHT
TZOFFSETFROM:+0000
TZOFFSETTO:+0100
TZNAME:BST
DTSTART:20260329T010000
END:DAYLIGHT
BEGIN:STANDARD
TZOFFSETFROM:+0100
TZOFFSETTO:+0000
TZNAME:GMT
DTSTART:20261025T010000
END:STANDARD
END:VTIMEZONE
BEGIN:VTIMEZONE
TZID:Europe/Amsterdam
BEGIN:DAYLIGHT
TZOFFSETFROM:+0100
TZOFFSETTO:+0200
TZNAME:CEST
DTSTART:20240331T010000
END:DAYLIGHT
BEGIN:STANDARD
TZOFFSETFROM:+0200
TZOFFSETTO:+0100
TZNAME:CET
DTSTART:20241027T010000
END:STANDARD
BEGIN:DAYLIGHT
TZOFFSETFROM:+0100
TZOFFSETTO:+0200
TZNAME:CEST
DTSTART:20250330T010000
END:DAYLIGHT
BEGIN:STANDARD
TZOFFSETFROM:+0200
TZOFFSETTO:+0100
TZNAME:CET
DTSTART:20251026T010000
END:STANDARD
BEGIN:DAYLIGHT
TZOFFSETFROM:+0100
TZOFFSETTO:+0200
TZNAME:CEST
DTSTART:20260329T010000
END:DAYLIGHT
BEGIN:STANDARD
TZOFFSETFROM:+0200
TZOFFSETTO:+0100
TZNAME:CET
DTSTART:20261025T010000
END:STANDARD
END:VTIMEZONE
BEGIN:VEVENT
DTSTART;TZID=Europe/London:20250402T180000
DTEND;TZID=Europe/London:20250402T230000
DTSTAMP:20260425T014248
CREATED:20250402T134232Z
LAST-MODIFIED:20250404T084617Z
UID:1446-1743616800-1743634800@grond.community
SUMMARY:Sport & Spel Club Balreep
DESCRIPTION:Sport & Spel Club Balreep is the name a weekly game night\, It refers to the local football club that was founded in 2013 out of Op de Valreep an Vereniging Bajesdorp. bring your own game\, weerwolven etc. \nreserve for food by emailing kantine [at] grond.community
URL:https://grond.community/event/sport-spel-club-balreep-11/
CATEGORIES:Food,Games
END:VEVENT
BEGIN:VEVENT
DTSTART;TZID=Europe/Amsterdam:20250409T180000
DTEND;TZID=Europe/Amsterdam:20250409T230000
DTSTAMP:20260425T014248
CREATED:20250402T133513Z
LAST-MODIFIED:20250423T112701Z
UID:1437-1744221600-1744239600@grond.community
SUMMARY:Sport & Spel Club Balreep
DESCRIPTION:Sport & Spel Club Balreep is the name a weekly game night\, It refers to the local football club that was founded in 2013 out of Op de Valreep an Vereniging Bajesdorp. bring your own game\, weerwolven etc. \nreserve for food by emailing kantine [at] grond.community
URL:https://grond.community/event/sport-spel-club-balreep-9/
LOCATION:GROND\, Bijdorpstraat 1\, Amsterdam\, 1096AP\, Netherlands
CATEGORIES:Food,Games
ATTACH;FMTTYPE=image/jpeg:https://grond.community/wp-content/uploads/2025/04/Ballreep_4.jpg
ORGANIZER;CN="GROND":MAILTO:info (at) grond (dot) community
END:VEVENT
BEGIN:VEVENT
DTSTART;TZID=Europe/Amsterdam:20250416T180000
DTEND;TZID=Europe/Amsterdam:20250416T230000
DTSTAMP:20260425T014248
CREATED:20250402T134101Z
LAST-MODIFIED:20250423T112522Z
UID:1442-1744826400-1744844400@grond.community
SUMMARY:Sport & Spel Club Balreep
DESCRIPTION:Sport & Spel Club Balreep is the name a weekly game night\, It refers to the local football club that was founded in 2013 out of Op de Valreep an Vereniging Bajesdorp. bring your own game\, weerwolven etc. \nreserve for food by emailing kantine [at] grond.community
URL:https://grond.community/event/sport-spel-club-balreep-10/
LOCATION:GROND\, Bijdorpstraat 1\, Amsterdam\, 1096AP\, Netherlands
CATEGORIES:Food,Games
ATTACH;FMTTYPE=image/jpeg:https://grond.community/wp-content/uploads/2025/04/Ballreep_4.jpg
ORGANIZER;CN="GROND":MAILTO:info (at) grond (dot) community
END:VEVENT
BEGIN:VEVENT
DTSTART;TZID=Europe/Amsterdam:20250423T180000
DTEND;TZID=Europe/Amsterdam:20250423T230000
DTSTAMP:20260425T014248
CREATED:20250402T134439Z
LAST-MODIFIED:20250423T112438Z
UID:1448-1745431200-1745449200@grond.community
SUMMARY:Sport & Spel Club Balreep
DESCRIPTION:Sport & Spel Club Balreep is the name a weekly game night\, It refers to the local football club that was founded in 2013 out of Op de Valreep an Vereniging Bajesdorp. bring your own game\, weerwolven etc. \nreserve for food by emailing kantine [at] grond.community
URL:https://grond.community/event/sport-spel-club-balreep-12/
LOCATION:GROND\, Bijdorpstraat 1\, Amsterdam\, 1096AP\, Netherlands
CATEGORIES:Food,Games
ATTACH;FMTTYPE=image/jpeg:https://grond.community/wp-content/uploads/2025/04/Ballreep_4.jpg
ORGANIZER;CN="GROND":MAILTO:info (at) grond (dot) community
END:VEVENT
BEGIN:VEVENT
DTSTART;TZID=Europe/Amsterdam:20250430T180000
DTEND;TZID=Europe/Amsterdam:20250430T230000
DTSTAMP:20260425T014248
CREATED:20250404T085018Z
LAST-MODIFIED:20250427T110946Z
UID:1472-1746036000-1746054000@grond.community
SUMMARY:Sport & Spel Club Balreep
DESCRIPTION:Sport & Spel Club Balreep is our weekly game night.\nIt refers to the local football club that was founded in 2013 out of Op de Valreep and Vereniging Bajesdorp.\nBring your own game\, weerwolven etc. \nFood Reservations can be made by emailing: kantine [at] grond.community
URL:https://grond.community/event/sport-spel-club-balreep-13/
LOCATION:GROND\, Bijdorpstraat 1\, Amsterdam\, 1096AP\, Netherlands
CATEGORIES:Food,Games
ATTACH;FMTTYPE=image/jpeg:https://grond.community/wp-content/uploads/2025/04/Ballreep_4.jpg
ORGANIZER;CN="GROND":MAILTO:info (at) grond (dot) community
END:VEVENT
END:VCALENDAR