
BEGIN:VCALENDAR
VERSION:2.0
PRODID:-// - ECPv6.15.20//NONSGML v1.0//EN
CALSCALE:GREGORIAN
METHOD:PUBLISH
X-ORIGINAL-URL:https://grond.community
X-WR-CALDESC:Events for 
REFRESH-INTERVAL;VALUE=DURATION:PT1H
X-Robots-Tag:noindex
X-PUBLISHED-TTL:PT1H
BEGIN:VTIMEZONE
TZID:Europe/Amsterdam
BEGIN:DAYLIGHT
TZOFFSETFROM:+0100
TZOFFSETTO:+0200
TZNAME:CEST
DTSTART:20250330T010000
END:DAYLIGHT
BEGIN:STANDARD
TZOFFSETFROM:+0200
TZOFFSETTO:+0100
TZNAME:CET
DTSTART:20251026T010000
END:STANDARD
BEGIN:DAYLIGHT
TZOFFSETFROM:+0100
TZOFFSETTO:+0200
TZNAME:CEST
DTSTART:20260329T010000
END:DAYLIGHT
BEGIN:STANDARD
TZOFFSETFROM:+0200
TZOFFSETTO:+0100
TZNAME:CET
DTSTART:20261025T010000
END:STANDARD
BEGIN:DAYLIGHT
TZOFFSETFROM:+0100
TZOFFSETTO:+0200
TZNAME:CEST
DTSTART:20270328T010000
END:DAYLIGHT
BEGIN:STANDARD
TZOFFSETFROM:+0200
TZOFFSETTO:+0100
TZNAME:CET
DTSTART:20271031T010000
END:STANDARD
END:VTIMEZONE
BEGIN:VEVENT
DTSTART;TZID=Europe/Amsterdam:20260206T110000
DTEND;TZID=Europe/Amsterdam:20260206T150000
DTSTAMP:20260420T211416
CREATED:20260128T063136Z
LAST-MODIFIED:20260128T063136Z
UID:2897-1770375600-1770390000@grond.community
SUMMARY:Falafel Friday
DESCRIPTION:Every Friday Falafel Friday! From 11:00 – 15:00 you can grab your lunch @GROND. Mohamed Alnoor makes his delicious homemade Falafel-sandwiches and sells them for €3\,50.
URL:https://grond.community/event/falafel-friday-6-2/
CATEGORIES:Food
ATTACH;FMTTYPE=image/jpeg:https://grond.community/wp-content/uploads/2026/01/Falafel-Friday-2026-insta.jpg
ORGANIZER;CN="We Sell Reality":MAILTO:elke@bajesdorp.nl
END:VEVENT
BEGIN:VEVENT
DTSTART;TZID=Europe/Amsterdam:20260206T200000
DTEND;TZID=Europe/Amsterdam:20260206T223000
DTSTAMP:20260420T211416
CREATED:20260122T134347Z
LAST-MODIFIED:20260122T134526Z
UID:2832-1770408000-1770417000@grond.community
SUMMARY:Orb Weaver
DESCRIPTION:Orb Weaver is a trio featuring Grond member David Mitchell (guitar\, electronics)\, drummer Robbert van Hulzen and bassist Lorenzo Servali.  The trio creates long form improvisations\, mixing influences including The Necks\, Jeff Parker’s ETA IVtet and experimental guitar pioneer David Torn.  Orb Weaver’s monthly residency features diverse guest soloists from the top rank of Amsterdam’s improvised music\, jazz and electroacoustic scenes:  on February 6th we are delighted to welcome trumpeter Gijs Levelt; as well as being a founding member of the Amsterdam Klezmer Band and Spinifex\, Gijs is also a highly regarded electro acoustic trumpet player\, both solo and in his acclaimed Spoken Quartet.  Trippy sounds emblematic of the interesting electro acoustic approach developing down in Oost right now.
URL:https://grond.community/event/orb-weaver-3/
CATEGORIES:Music
ATTACH;FMTTYPE=image/png:https://grond.community/wp-content/uploads/2026/01/OW-Feb-final.png
END:VEVENT
END:VCALENDAR