
BEGIN:VCALENDAR
VERSION:2.0
PRODID:-// - ECPv6.15.20//NONSGML v1.0//EN
CALSCALE:GREGORIAN
METHOD:PUBLISH
X-ORIGINAL-URL:https://grond.community
X-WR-CALDESC:Events for 
REFRESH-INTERVAL;VALUE=DURATION:PT1H
X-Robots-Tag:noindex
X-PUBLISHED-TTL:PT1H
BEGIN:VTIMEZONE
TZID:Europe/Amsterdam
BEGIN:DAYLIGHT
TZOFFSETFROM:+0100
TZOFFSETTO:+0200
TZNAME:CEST
DTSTART:20250330T010000
END:DAYLIGHT
BEGIN:STANDARD
TZOFFSETFROM:+0200
TZOFFSETTO:+0100
TZNAME:CET
DTSTART:20251026T010000
END:STANDARD
BEGIN:DAYLIGHT
TZOFFSETFROM:+0100
TZOFFSETTO:+0200
TZNAME:CEST
DTSTART:20260329T010000
END:DAYLIGHT
BEGIN:STANDARD
TZOFFSETFROM:+0200
TZOFFSETTO:+0100
TZNAME:CET
DTSTART:20261025T010000
END:STANDARD
BEGIN:DAYLIGHT
TZOFFSETFROM:+0100
TZOFFSETTO:+0200
TZNAME:CEST
DTSTART:20270328T010000
END:DAYLIGHT
BEGIN:STANDARD
TZOFFSETFROM:+0200
TZOFFSETTO:+0100
TZNAME:CET
DTSTART:20271031T010000
END:STANDARD
END:VTIMEZONE
BEGIN:VEVENT
DTSTART;TZID=Europe/Amsterdam:20260110T203000
DTEND;TZID=Europe/Amsterdam:20260110T230000
DTSTAMP:20260420T225744
CREATED:20251212T160950Z
LAST-MODIFIED:20251213T095853Z
UID:2732-1768077000-1768086000@grond.community
SUMMARY:New Marshall Plan
DESCRIPTION:The world is full of noise. On Saturday 10 January\, New Marshall Plan turns the knob toward hope.\nWith 80s synths\, 90s guitars\, and lyrics about politics\, love\, and life\, the band brews catchy indie pop that heals\, lifts\, and sticks in your head: musical vitamins for those who want to feel again. \n20:30 (doors: 20:00)\nTickets online: regular €10 / discount €7 – at the door: €12\,5 (sliding scale) \n\nAbout\nNew Marshall Plan is a Dutch indie band creating music rooted in the rich traditions of synthpop\, rock\, and new wave. They were formed more than 20 years ago out of a shared love for bands like Depeche Mode\, Joy Division\, Radiohead\, Interpol\, and The Whitest Boy Alive—but for a long time\, the songs stayed close to home. In June 2023 they recorded the album “Escalate” at Mailmen Studio with Martijn Groeneveld\, known for his work with Blaudzun and Klangstof. The first single dropped in October 2023\, and the full album was released on April 4\, 2024. Each of the 10 tracks is accompanied by a music video—many of them made using AI\, pushing the boundaries of what indie can look like as well as sound like. Lyrically\, they don’t shy away from anything. These songs cover themes like corporate greed\, war\, inequality\, misinformation\, and the messy reality of human relationships. But there’s also hope in the noise—because for them\, making music is an act of rebuilding. The band’s name\, New Marshall Plan\, reflects that—a nod to Europe’s post-war reconstruction and a metaphor for picking up the pieces in your own life. In 2025\, they also released “Bermuda\,” a self-recorded album from 2007 that they never properly put out back then. It’s a raw snapshot of who they were\, and releasing it now bridges their early ideas with what they are creating today. It’s not as polished as “Escalate”—but it’s real\, and it completes their story until now. \nNew Marshall Plan are Rogier Werschkull\, Roeland van der Put\, David van Putten\, and Bart Koopman.
URL:https://grond.community/event/new-marshall-plan/
LOCATION:GROND\, Bijdorpstraat 1\, Amsterdam\, 1096AP\, Netherlands
CATEGORIES:Music
ATTACH;FMTTYPE=image/jpeg:https://grond.community/wp-content/uploads/2025/12/Bew-Marshall-Plan.jpeg
ORGANIZER;CN="GROND":MAILTO:info (at) grond (dot) community
END:VEVENT
END:VCALENDAR