
BEGIN:VCALENDAR
VERSION:2.0
PRODID:-// - ECPv6.15.20//NONSGML v1.0//EN
CALSCALE:GREGORIAN
METHOD:PUBLISH
X-ORIGINAL-URL:https://grond.community
X-WR-CALDESC:Events for 
REFRESH-INTERVAL;VALUE=DURATION:PT1H
X-Robots-Tag:noindex
X-PUBLISHED-TTL:PT1H
BEGIN:VTIMEZONE
TZID:Europe/Amsterdam
BEGIN:DAYLIGHT
TZOFFSETFROM:+0100
TZOFFSETTO:+0200
TZNAME:CEST
DTSTART:20240331T010000
END:DAYLIGHT
BEGIN:STANDARD
TZOFFSETFROM:+0200
TZOFFSETTO:+0100
TZNAME:CET
DTSTART:20241027T010000
END:STANDARD
BEGIN:DAYLIGHT
TZOFFSETFROM:+0100
TZOFFSETTO:+0200
TZNAME:CEST
DTSTART:20250330T010000
END:DAYLIGHT
BEGIN:STANDARD
TZOFFSETFROM:+0200
TZOFFSETTO:+0100
TZNAME:CET
DTSTART:20251026T010000
END:STANDARD
BEGIN:DAYLIGHT
TZOFFSETFROM:+0100
TZOFFSETTO:+0200
TZNAME:CEST
DTSTART:20260329T010000
END:DAYLIGHT
BEGIN:STANDARD
TZOFFSETFROM:+0200
TZOFFSETTO:+0100
TZNAME:CET
DTSTART:20261025T010000
END:STANDARD
END:VTIMEZONE
BEGIN:VEVENT
DTSTART;TZID=Europe/Amsterdam:20251128T110000
DTEND;TZID=Europe/Amsterdam:20251128T150000
DTSTAMP:20260421T023046
CREATED:20251115T092917Z
LAST-MODIFIED:20251115T092917Z
UID:2675-1764327600-1764342000@grond.community
SUMMARY:Falafel Friday
DESCRIPTION:This Month: every Friday Hawa is preparing delicious homemade Falafel sandwiches for €3\,50 per sandwich. We are open from 11 am – 3 pm. Welcome!
URL:https://grond.community/event/falafel-friday-3/
LOCATION:GROND\, Bijdorpstraat 1\, Amsterdam\, 1096AP\, Netherlands
ATTACH;FMTTYPE=image/jpeg:https://grond.community/wp-content/uploads/2025/11/falafel-friday-november-2025.jpg
ORGANIZER;CN="We Sell Reality":MAILTO:elke@bajesdorp.nl
END:VEVENT
END:VCALENDAR