
BEGIN:VCALENDAR
VERSION:2.0
PRODID:-// - ECPv6.15.20//NONSGML v1.0//EN
CALSCALE:GREGORIAN
METHOD:PUBLISH
X-ORIGINAL-URL:https://grond.community
X-WR-CALDESC:Events for 
REFRESH-INTERVAL;VALUE=DURATION:PT1H
X-Robots-Tag:noindex
X-PUBLISHED-TTL:PT1H
BEGIN:VTIMEZONE
TZID:Europe/Amsterdam
BEGIN:DAYLIGHT
TZOFFSETFROM:+0100
TZOFFSETTO:+0200
TZNAME:CEST
DTSTART:20240331T010000
END:DAYLIGHT
BEGIN:STANDARD
TZOFFSETFROM:+0200
TZOFFSETTO:+0100
TZNAME:CET
DTSTART:20241027T010000
END:STANDARD
BEGIN:DAYLIGHT
TZOFFSETFROM:+0100
TZOFFSETTO:+0200
TZNAME:CEST
DTSTART:20250330T010000
END:DAYLIGHT
BEGIN:STANDARD
TZOFFSETFROM:+0200
TZOFFSETTO:+0100
TZNAME:CET
DTSTART:20251026T010000
END:STANDARD
BEGIN:DAYLIGHT
TZOFFSETFROM:+0100
TZOFFSETTO:+0200
TZNAME:CEST
DTSTART:20260329T010000
END:DAYLIGHT
BEGIN:STANDARD
TZOFFSETFROM:+0200
TZOFFSETTO:+0100
TZNAME:CET
DTSTART:20261025T010000
END:STANDARD
END:VTIMEZONE
BEGIN:VEVENT
DTSTART;TZID=Europe/Amsterdam:20251121T110000
DTEND;TZID=Europe/Amsterdam:20251121T150000
DTSTAMP:20260421T023132
CREATED:20251115T092608Z
LAST-MODIFIED:20251115T092608Z
UID:2671-1763722800-1763737200@grond.community
SUMMARY:Falafel Friday
DESCRIPTION:This Month: every Friday Hawa is preparing delicious homemade Falafel sandwiches for €3\,50 per sandwich. We are open from 11 am – 3 pm. Welcome!
URL:https://grond.community/event/falafel-friday-2/
LOCATION:GROND\, Bijdorpstraat 1\, Amsterdam\, 1096AP\, Netherlands
ATTACH;FMTTYPE=image/jpeg:https://grond.community/wp-content/uploads/2025/11/falafel-friday-november-2025.jpg
ORGANIZER;CN="We Sell Reality":MAILTO:elke@bajesdorp.nl
END:VEVENT
BEGIN:VEVENT
DTSTART;TZID=Europe/Amsterdam:20251121T200000
DTEND;TZID=Europe/Amsterdam:20251121T230000
DTSTAMP:20260421T023132
CREATED:20250908T145521Z
LAST-MODIFIED:20251110T131413Z
UID:2221-1763755200-1763766000@grond.community
SUMMARY:TEMPERATURA
DESCRIPTION:w/ Joana Guerra\, Maria do Mar\, Romke Kleefstra\, Jan Kleefstra\, and Orphax\n20:30 (doors: 20:00)\nTickets online: regular €10 / discount €7 – at the door: €12\,5 \n\nFriday 21 November\, TEMPERATURA presents the latest edition of the Kleefstra brothers’ poetry-and-music project\, IT DEEL IV. In this edition\, Romke and Jan Kleefstra collaborate with the cello player Joana Guerra\, and the violin player Maria do Mar. The same evening\, a solo live-electronics performance by Orphax\, aka Sietse van Erve.  \n \n• IT DEEL IV | Joana Guerra\, Maria do Mar\, Romke Kleefstra\, Jan Kleefstra •\nPoetry and music in an annually changing Frisian-international ensemble — that’s IT DEEL\, a residency project by the Kleefstra brothers. Last summer\, the Kleefstras invited cellist Joana Guerra and violinist Maria do Mar for a week-long creative residency at a special location: the Thomas Church in Katlijk. IT DEEL IV is out on vinyl LP on Moving Furniture Records. As part of their Dutch concert tour\, they will make a stop at GROND to present their album in the Amsterdam audience. \nThe central theme running through all IT DEEL collaborations: the relationship between humans and nature\, in all its beauty and complexity. It’s not a light topic\, but one that is universal and deeply connecting. Each year\, it’s remarkable to witness what has emerged from the Fryske grûn (Frisian soil) in the dialogue between the Kleefstras and their European guest musicians. Missed earlier editions? This is your last chance: IT DEEL IV is the final instalment of the project. Already a long-time follower? Excellent—we’ll see you there! \n• Orphax •\nAmsterdam based musician and trained drummer Sietse van Erve (Orphax) was introduced to electronic music in the early nineties. After playing around with tracker software for a couple of years\, he eventually recorded his first more serious attempts of music with beats and melodies in 1998\, though soon lost interest in both these.\nHe started researching new sounds and new ways of working – always with an organic touch\, often incorporating sounds that would be regarded by others as errors or mistakes. Considering life isn’t without errors either. During this search\, he found his way into drone and microtonal music. As a result in his most recent work\, time and spatiality become more important factors. The goal of the music is for the listener to lose the sense of time and place.\nLive\, this is combined with room for improvisation. This way of working results often in an organic form of drone and minimal music. \nOrphax – photo by Harold Zijp\n_____________ \nTEMPERATURA is a contemporary music concert series\, improvisation hub\, and everything in between\, initiated by composers/performers J. Veličković and F. Konstantinidou. The series focuses on contemporary music from the Netherlands and beyond\, aiming to bring together its diverse expressions. By promoting the wide spectrum of contemporary musical stimuli\, TEMPERATURA seeks to bridge the gap between musicians\, composers\, and performers from different musical backgrounds. Ultimately\, TEMPERATURA strives to bring fresh musical adventures to local audiences and spread today’s artistic practices.\n______________\n*If you wish to attend but can’t afford our entry fee\, please let us know–we ll make sure you can join us.
URL:https://grond.community/event/temperatura-21-11/
LOCATION:GROND\, Bijdorpstraat 1\, Amsterdam\, 1096AP\, Netherlands
CATEGORIES:Music,performance
ATTACH;FMTTYPE=image/jpeg:https://grond.community/wp-content/uploads/2025/09/Temperatura-211125-s.jpg
ORGANIZER;CN="GROND":MAILTO:info (at) grond (dot) community
END:VEVENT
END:VCALENDAR