
BEGIN:VCALENDAR
VERSION:2.0
PRODID:-// - ECPv6.15.20//NONSGML v1.0//EN
CALSCALE:GREGORIAN
METHOD:PUBLISH
X-ORIGINAL-URL:https://grond.community
X-WR-CALDESC:Events for 
REFRESH-INTERVAL;VALUE=DURATION:PT1H
X-Robots-Tag:noindex
X-PUBLISHED-TTL:PT1H
BEGIN:VTIMEZONE
TZID:Europe/Amsterdam
BEGIN:DAYLIGHT
TZOFFSETFROM:+0100
TZOFFSETTO:+0200
TZNAME:CEST
DTSTART:20240331T010000
END:DAYLIGHT
BEGIN:STANDARD
TZOFFSETFROM:+0200
TZOFFSETTO:+0100
TZNAME:CET
DTSTART:20241027T010000
END:STANDARD
BEGIN:DAYLIGHT
TZOFFSETFROM:+0100
TZOFFSETTO:+0200
TZNAME:CEST
DTSTART:20250330T010000
END:DAYLIGHT
BEGIN:STANDARD
TZOFFSETFROM:+0200
TZOFFSETTO:+0100
TZNAME:CET
DTSTART:20251026T010000
END:STANDARD
BEGIN:DAYLIGHT
TZOFFSETFROM:+0100
TZOFFSETTO:+0200
TZNAME:CEST
DTSTART:20260329T010000
END:DAYLIGHT
BEGIN:STANDARD
TZOFFSETFROM:+0200
TZOFFSETTO:+0100
TZNAME:CET
DTSTART:20261025T010000
END:STANDARD
END:VTIMEZONE
BEGIN:VEVENT
DTSTART;TZID=Europe/Amsterdam:20251120T200000
DTEND;TZID=Europe/Amsterdam:20251120T213000
DTSTAMP:20260421T023456
CREATED:20251111T081552Z
LAST-MODIFIED:20251111T081653Z
UID:2561-1763668800-1763674200@grond.community
SUMMARY:Double Trouble: Duets at Grond
DESCRIPTION:A new series of duet performances by some of Amsterdam’s best musicians.  Curated by Grond member David Mitchell\, the new series will put together pairs of musicians for new and unexpected encounters\, showing different approaches to the same instrument or unusual combinations of instruments\, all with a common aim:  to take musicians out of their comfort zone.  For the first edition we put together two electric guitarists with very different approaches:  Theo Holsheimer has previously performed at Grond with Cilice Orchestra\, his project that puts together the power of metal with intricate arrangements for jazz and classical musicians; David Mitchell has a background in modern jazz and the classical traditions of Central Asia\, and works with long form loops to create complex layered improvisations.  Thursday 20 November at 8pm\, tickets 10Euros/7 Euros (concessions). \n 
URL:https://grond.community/event/double-trouble-duets-at-grond/
CATEGORIES:Music
ATTACH;FMTTYPE=image/png:https://grond.community/wp-content/uploads/2025/11/duoost.png
END:VEVENT
END:VCALENDAR