
BEGIN:VCALENDAR
VERSION:2.0
PRODID:-// - ECPv6.15.20//NONSGML v1.0//EN
CALSCALE:GREGORIAN
METHOD:PUBLISH
X-ORIGINAL-URL:https://grond.community
X-WR-CALDESC:Events for 
REFRESH-INTERVAL;VALUE=DURATION:PT1H
X-Robots-Tag:noindex
X-PUBLISHED-TTL:PT1H
BEGIN:VTIMEZONE
TZID:Europe/London
BEGIN:DAYLIGHT
TZOFFSETFROM:+0000
TZOFFSETTO:+0100
TZNAME:BST
DTSTART:20240331T010000
END:DAYLIGHT
BEGIN:STANDARD
TZOFFSETFROM:+0100
TZOFFSETTO:+0000
TZNAME:GMT
DTSTART:20241027T010000
END:STANDARD
BEGIN:DAYLIGHT
TZOFFSETFROM:+0000
TZOFFSETTO:+0100
TZNAME:BST
DTSTART:20250330T010000
END:DAYLIGHT
BEGIN:STANDARD
TZOFFSETFROM:+0100
TZOFFSETTO:+0000
TZNAME:GMT
DTSTART:20251026T010000
END:STANDARD
BEGIN:DAYLIGHT
TZOFFSETFROM:+0000
TZOFFSETTO:+0100
TZNAME:BST
DTSTART:20260329T010000
END:DAYLIGHT
BEGIN:STANDARD
TZOFFSETFROM:+0100
TZOFFSETTO:+0000
TZNAME:GMT
DTSTART:20261025T010000
END:STANDARD
END:VTIMEZONE
BEGIN:VEVENT
DTSTART;TZID=Europe/London:20250704T200000
DTEND;TZID=Europe/London:20250704T230000
DTSTAMP:20260421T093411
CREATED:20250625T211010Z
LAST-MODIFIED:20250625T211530Z
UID:2027-1751659200-1751670000@grond.community
SUMMARY:Double triple acoustic night: Packx & The Epic Elixir
DESCRIPTION:Packx: Werner van de Vrede\, Camilo Fernandez\, Jussi Schmidt\nThe Epic Elixir: Paul Whittlesea\, Frank van Schagen\, Martin Kaffarnik\n\n\n\n\nGROND Bijdorpstraat 1\, 1096AP\, Amsterdam\n20:30 (doors: 20:00)\nTickets: regular €10 (or more) / discount €7 – available at the door & online\n\n\n\n\nIn reference to the very first Bajesdorp Festivals that were focussing on singer-songwriters in legendary unplugged living room concerts\, this evening will unite 2 acoustic trios:\nOne of Bajesdorps mainstay homebands\, „The Epic Elixir“ and „Packx“\, a brand new venture of singer-songwriter Werner van de Vrede will share a variety of different tastes and recipes from the acoustic singer-songwriter kitchen.\n\n\n\n\n\n\nPackx is the pact that singer/songwriter Werner van de Vrede closed with bassist Camilo Fernandez and trumpet player Jussi Schmidt. Dutch songs with pepper and honey. Passion and poetry. https://www.wernervrede.nl/blog/\n\n\n\n\n\n\n\n\n\n\n\n\n\n\n\nThe Epic Elixir is brought to you by Australian novelist\, singer-songwriter\, guitarist/ukulelist Paul Whittlesea and his companions Frank van Schagen (accordeon\, piano\, flutes and whistles) and Martin Kaffarnik (Cello). An eclectic tincture of acoustic indie\, sweet folk pop\, spicy jazz and crunchy rock. \npjwhittlesea.com/music/
URL:https://grond.community/event/double-triple-acoustic-night-packx-the-epic-elixir/
LOCATION:GROND\, Bijdorpstraat 1\, Amsterdam\, 1096AP\, Netherlands
CATEGORIES:Music
ATTACH;FMTTYPE=image/jpeg:https://grond.community/wp-content/uploads/2025/06/Packx.jpeg
END:VEVENT
END:VCALENDAR