
BEGIN:VCALENDAR
VERSION:2.0
PRODID:-// - ECPv6.15.20//NONSGML v1.0//EN
CALSCALE:GREGORIAN
METHOD:PUBLISH
X-ORIGINAL-URL:https://grond.community
X-WR-CALDESC:Events for 
REFRESH-INTERVAL;VALUE=DURATION:PT1H
X-Robots-Tag:noindex
X-PUBLISHED-TTL:PT1H
BEGIN:VTIMEZONE
TZID:Europe/Amsterdam
BEGIN:DAYLIGHT
TZOFFSETFROM:+0100
TZOFFSETTO:+0200
TZNAME:CEST
DTSTART:20240331T010000
END:DAYLIGHT
BEGIN:STANDARD
TZOFFSETFROM:+0200
TZOFFSETTO:+0100
TZNAME:CET
DTSTART:20241027T010000
END:STANDARD
BEGIN:DAYLIGHT
TZOFFSETFROM:+0100
TZOFFSETTO:+0200
TZNAME:CEST
DTSTART:20250330T010000
END:DAYLIGHT
BEGIN:STANDARD
TZOFFSETFROM:+0200
TZOFFSETTO:+0100
TZNAME:CET
DTSTART:20251026T010000
END:STANDARD
BEGIN:DAYLIGHT
TZOFFSETFROM:+0100
TZOFFSETTO:+0200
TZNAME:CEST
DTSTART:20260329T010000
END:DAYLIGHT
BEGIN:STANDARD
TZOFFSETFROM:+0200
TZOFFSETTO:+0100
TZNAME:CET
DTSTART:20261025T010000
END:STANDARD
END:VTIMEZONE
BEGIN:VEVENT
DTSTART;TZID=Europe/Amsterdam:20250405T140000
DTEND;TZID=Europe/Amsterdam:20250405T233000
DTSTAMP:20260421T143023
CREATED:20250307T090026Z
LAST-MODIFIED:20250307T090424Z
UID:1363-1743861600-1743895800@grond.community
SUMMARY:Vrije Ruimte Festival
DESCRIPTION:GROND Bijdorpstraat 1\, 1096AP\, Amsterdam\n14:00 – 23:30\n€ FREE – donations welcome \nArtists: Andrea Elera\, Dominique Chabot\, Ivo Bol\, Jasna Veličković\, Judith Baten\, Marc Nukoop\, Mazen Al Ashkar\, Nicolás Conde\, Quartier Mustache\, Ramon Smit\, Wytze Minne de Swart\, Seijiro Murayama (guest)\, Roger Fähndrich (guest)\, Pau Sola (guest) \nGROND is celebrating the 10th anniversary of Amsterdam Alternative\, and taking part in the Vrije Ruimte Festival: a multidisciplinary\, bilingual\, experimental yet accessible festival for young and old\, that will take place in ten different locations on ten different dates between March and September 2025. \nAt GROND\, we invite you to reconnect with the pulse of nature and community as we welcome the Spring. The programme brings together different ways of resilience\, rebirth\, and collectiveness through performances\, installations\, and workshops. Dive into a dynamic program where image\, food\, sound\, and movement blur boundaries\, bringing us together in organic\, ever-evolving experiences. Join us as we celebrate alternative ways of being and creating\, nurturing the seeds of tomorrow – together.\nWe start with a workshop for children that combines storytelling\, performance and drawing and we finish with a collective performance and closing party. In between there will be a range of experiences happening. Feel free to spend a full afternoon and evening with us or just pop in for an hour.
URL:https://grond.community/event/vrije-ruimte-festival/
LOCATION:GROND\, Bijdorpstraat 1\, Amsterdam\, 1096AP\, Netherlands
ATTACH;FMTTYPE=image/png:https://grond.community/wp-content/uploads/2025/03/AA-5-April.png
ORGANIZER;CN="GROND":MAILTO:info (at) grond (dot) community
END:VEVENT
END:VCALENDAR