
BEGIN:VCALENDAR
VERSION:2.0
PRODID:-// - ECPv6.15.20//NONSGML v1.0//EN
CALSCALE:GREGORIAN
METHOD:PUBLISH
X-ORIGINAL-URL:https://grond.community
X-WR-CALDESC:Events for 
REFRESH-INTERVAL;VALUE=DURATION:PT1H
X-Robots-Tag:noindex
X-PUBLISHED-TTL:PT1H
BEGIN:VTIMEZONE
TZID:Europe/London
BEGIN:DAYLIGHT
TZOFFSETFROM:+0000
TZOFFSETTO:+0100
TZNAME:BST
DTSTART:20240331T010000
END:DAYLIGHT
BEGIN:STANDARD
TZOFFSETFROM:+0100
TZOFFSETTO:+0000
TZNAME:GMT
DTSTART:20241027T010000
END:STANDARD
BEGIN:DAYLIGHT
TZOFFSETFROM:+0000
TZOFFSETTO:+0100
TZNAME:BST
DTSTART:20250330T010000
END:DAYLIGHT
BEGIN:STANDARD
TZOFFSETFROM:+0100
TZOFFSETTO:+0000
TZNAME:GMT
DTSTART:20251026T010000
END:STANDARD
BEGIN:DAYLIGHT
TZOFFSETFROM:+0000
TZOFFSETTO:+0100
TZNAME:BST
DTSTART:20260329T010000
END:DAYLIGHT
BEGIN:STANDARD
TZOFFSETFROM:+0100
TZOFFSETTO:+0000
TZNAME:GMT
DTSTART:20261025T010000
END:STANDARD
END:VTIMEZONE
BEGIN:VEVENT
DTSTART;TZID=Europe/London:20250309T200000
DTEND;TZID=Europe/London:20250309T220000
DTSTAMP:20260421T161003
CREATED:20250105T183759Z
LAST-MODIFIED:20250307T071855Z
UID:1069-1741550400-1741557600@grond.community
SUMMARY:Aldrich/Bol/van Dijk/Valeriano\, & Ties Mellema and Robin Koek
DESCRIPTION:Electronic music\, saxophones\, keyboards\, and spoken word\nBy Ties Mellema & the new band Aldrich/Bol/van Dijk/Valeriano. Special guest Robin Koek. Our Canteen is open\, serving delicious food from 18:00 hrs onwards! \nGROND Bijdorpstraat 1\, 1096AP\, Amsterdam\nMusic starts at 20:00 – dinner will be served from 18:30\nTickets: regular €10 (or more) / discount €7 – available at the door or online here.\nDinner: + €12\,5 (RSVP required – Reserve by purchasing online) \nIvo Bol and Ties Mellema have played together for many years. Now they join forces with keyboardist and composer Tom Aldrich\, saxophonist Michiel van Dijk and spoken word artist Jeannine Valeriano. \nABOUT THE ARTISTS \nJeannine Valeriano is a writer\, singer\, spoken word performer and actress\, exploring the boundaries between language and music. \n \nMichiel van Dijk studied classical saxophone with Leo van Oostrom and jazz saxophone with John Ruocco at the Koninklijk Conservatorium in Den Haag. Michiel has played with almost all the renowned orchestras and ensembles in the Netherlands. Additionally\, he has collaborated with various theater productions and ensembles as a composer and arranger. \n \nTom Aldrich is the leader of the group Zolder Ellipsis and was a co-founder of the Four Bags. He has worked with artists such as a.o. Kurt Rosenwinkel\, Bang on a Can\, Jackie Cain. \n \nTaking on and then overcoming challenges and telling a story are always at the heart of Ties Mellema’s work. Whether it’s the false-polyphonic cello suites by Johann Sebastian Bach on baritone saxophone\, the monomaniac Gradus by Philip Glass or the extreme free jazz by his hero John Coltrane: Ties Mellema always goes in search of the boundaries of disciplines and the possibilities on his instrument. \n \nRobin Koek is an enterprising sound artist who aspires to nurture a new cognitive understanding of the world surrounding us mediated through art and education. These realities can be experienced as dynamic environments in which sensory feedback to the interactor is an essential component.
URL:https://grond.community/event/ties-mellema-vinkepeezer-tom-aldrich-jeannine-valeriano/
CATEGORIES:Music
ATTACH;FMTTYPE=image/jpeg:https://grond.community/wp-content/uploads/2025/01/Jeannine_Ben-van-Duin.jpg
END:VEVENT
END:VCALENDAR