
BEGIN:VCALENDAR
VERSION:2.0
PRODID:-// - ECPv6.15.20//NONSGML v1.0//EN
CALSCALE:GREGORIAN
METHOD:PUBLISH
X-ORIGINAL-URL:https://grond.community
X-WR-CALDESC:Events for 
REFRESH-INTERVAL;VALUE=DURATION:PT1H
X-Robots-Tag:noindex
X-PUBLISHED-TTL:PT1H
BEGIN:VTIMEZONE
TZID:Europe/London
BEGIN:DAYLIGHT
TZOFFSETFROM:+0000
TZOFFSETTO:+0100
TZNAME:BST
DTSTART:20240331T010000
END:DAYLIGHT
BEGIN:STANDARD
TZOFFSETFROM:+0100
TZOFFSETTO:+0000
TZNAME:GMT
DTSTART:20241027T010000
END:STANDARD
BEGIN:DAYLIGHT
TZOFFSETFROM:+0000
TZOFFSETTO:+0100
TZNAME:BST
DTSTART:20250330T010000
END:DAYLIGHT
BEGIN:STANDARD
TZOFFSETFROM:+0100
TZOFFSETTO:+0000
TZNAME:GMT
DTSTART:20251026T010000
END:STANDARD
BEGIN:DAYLIGHT
TZOFFSETFROM:+0000
TZOFFSETTO:+0100
TZNAME:BST
DTSTART:20260329T010000
END:DAYLIGHT
BEGIN:STANDARD
TZOFFSETFROM:+0100
TZOFFSETTO:+0000
TZNAME:GMT
DTSTART:20261025T010000
END:STANDARD
END:VTIMEZONE
BEGIN:VEVENT
DTSTART;TZID=Europe/London:20250227T200000
DTEND;TZID=Europe/London:20250227T230000
DTSTAMP:20260421T160839
CREATED:20250219T201647Z
LAST-MODIFIED:20250223T192811Z
UID:1210-1740686400-1740697200@grond.community
SUMMARY:F. Konstantinidou & I. Pavlopoulos・GROND Improvisers Group
DESCRIPTION:Contemporary music / Electronic music / Improvisation\nUNDERTONES by F. Konstantinidou & I. Pavlopoulos・GROND Improvisers Group\nw/F. Konstantinidou\, I. Pavlopoulos\, M. Al Ashkar\, M. Nukoop\, M. Baalman and more t.b.a.\nGROND Bijdorpstraat 1\, 1096AP\, Amsterdam\n20:30 (doors: 20:00)\nTickets: regular €10 (or more) / discount €7 – available at the door or Online \n  \nOn Thursday 27 February\, you are cordially invited to the premiere of Fani Konstantinidou‘s new work\, UNDERTONES: a four channel composition for percussion (metal idiophones)\, electronics\, and variable field recordings. Together with her on stage\, the percussionist Iakovos Pavlopoulos. \nThe same evening\, members of our GROND Improvisers Group will present their versatile performances in spontaneous collaborations. Expect contributions by Mazen Al Ashkar\, Marc Nukoop\, Marije Baalman\, and more. \nF. Konstantinidou – I. Pavlopoulos\n  \nMazen Al Ashkar\n 
URL:https://grond.community/event/concert-undertones/
LOCATION:GROND\, Bijdorpstraat 1\, Amsterdam\, 1096AP\, Netherlands
CATEGORIES:Music,performance
ATTACH;FMTTYPE=image/jpeg:https://grond.community/wp-content/uploads/2025/02/GROND-2702.jpg
ORGANIZER;CN="GROND":MAILTO:info (at) grond (dot) community
END:VEVENT
END:VCALENDAR